BEGIN:VCALENDAR
VERSION:2.0
PRODID:-//Hello Kuopio - ECPv6.15.17.1//NONSGML v1.0//EN
CALSCALE:GREGORIAN
METHOD:PUBLISH
X-WR-CALNAME:Hello Kuopio
X-ORIGINAL-URL:https://www.hellokuopio.fi
X-WR-CALDESC:Tapahtumat Hello Kuopio
REFRESH-INTERVAL;VALUE=DURATION:PT1H
X-Robots-Tag:noindex
X-PUBLISHED-TTL:PT1H
BEGIN:VTIMEZONE
TZID:Europe/Helsinki
BEGIN:DAYLIGHT
TZOFFSETFROM:+0200
TZOFFSETTO:+0300
TZNAME:EEST
DTSTART:20250330T010000
END:DAYLIGHT
BEGIN:STANDARD
TZOFFSETFROM:+0300
TZOFFSETTO:+0200
TZNAME:EET
DTSTART:20251026T010000
END:STANDARD
BEGIN:DAYLIGHT
TZOFFSETFROM:+0200
TZOFFSETTO:+0300
TZNAME:EEST
DTSTART:20260329T010000
END:DAYLIGHT
BEGIN:STANDARD
TZOFFSETFROM:+0300
TZOFFSETTO:+0200
TZNAME:EET
DTSTART:20261025T010000
END:STANDARD
BEGIN:DAYLIGHT
TZOFFSETFROM:+0200
TZOFFSETTO:+0300
TZNAME:EEST
DTSTART:20270328T010000
END:DAYLIGHT
BEGIN:STANDARD
TZOFFSETFROM:+0300
TZOFFSETTO:+0200
TZNAME:EET
DTSTART:20271031T010000
END:STANDARD
END:VTIMEZONE
BEGIN:VEVENT
DTSTART;TZID=Europe/Helsinki:20260522T160000
DTEND;TZID=Europe/Helsinki:20260524T120000
DTSTAMP:20260422T172300
CREATED:20260417T114734Z
LAST-MODIFIED:20260417T114734Z
UID:10026508-1779465600-1779624000@www.hellokuopio.fi
SUMMARY:Yin Your Mind -kevään hyvinvointiviikonloppu
DESCRIPTION:Kevään hyvinvointiviikonloppu \n”YIN YOUR MIND” \n22.- 24.5.2026 (pe-su) – Viljamaan kartano\, Kaavi \nHentoon vihreyteen heräävä kevät ja lämpöä luovat auringonsäteet kutsuvat sinut kehon ja mielen hyvinvoinnin äärelle toukokuun lopulla. Paikkana on tunnelmallinen ja kodikas Viljamaan kartano luonnon keskellä Kaavilla\, Pohjois-Savossa. Tämä retriitti on sinulle\, joka haluat irrottautua arjen kiireestä ja antaa itsellesi luvan pysähtyä\, rauhoittua ja energisoitua. Retriitin tarkoituksena on tukea lempeiden harjoitusten avulla kokonaisvaltaista hyvinvointia ja auttaa kehoa ja mieltä palautumaan stressistä ja kuormituksesta. \nEt tarvitse aiempaa kokemusta joogasta osallistuaksesi retriittiin. Pienryhmä mahdollistaa yksilöllisen ohjauksen harjoituksissa jokaisen kehon rajoitukset huomioiden. \nRetriitin hintaan kuuluu: \n– Yin-joogaharjoitukset aamuin illoin\n– Kehonhuoltoa\n– Hengitys- ja läsnäoloharjoituksia\n– Luontoretki ja metsärentoutus (säävaraus)\n– Yin your mind- workshop\n– Majoitus 2hh (oma wc+suihku)\n– Koko viikonlopun ruokailut\n– Sauna- ja uintimahdollisuus \nIlmoittaudu mukaan ja tule palautumaan ja uudistumaan kanssamme ihanassa\, pienessä yhteisöllisessä ryhmässä! \nLämpimästi tervetuloa hyvän mielen ja -olon viikonloppuun! \nOhjaaja: Henna-Mari Luolamo / VoiceFit Oy \nHinta: 449€ \nOsallistujamäärä: min. 8 hlöä – max. 12 hlöä (retriitti toteutuu\, kun osallistujia väh. 8 hlöä) \nVastuullisena matkanjärjestäjänä toimii Äksyt Ämmät Oy\nVaraa paikkasi tästä: https://aksytammat.fi/p/1378/yin-your-mind-kevaan-hyvinvointiviikonloppu \nHenna-Mari Luolamo on joensuulainen äänenkäytön ammattilainen ja hyvinvointivalmentaja. Lisäksi hän on kouluttautunut Yin-joogaohjaajaksi ( Seasonal Yin-yoga\,RYT-100h). Hänelle Yin-jooga on ensisijaisesti tapa rauhoittua ja tasapainottaa keho-mieli-yhteyttä. Henna-Mari uskoo Yin-joogan auttavan pysähtymään ja keskittymään hetkessä olemiseen. Hänen ohjaustaan on kuvailtu lempeäksi ja sallivaksi. ”Lähes jokainen keho pystyy Yin-joogaan\, sillä siinä täydelliset asanalinjaukset eivät ole merkityksellisiä\, vaan pääasia olisi löytää itselleen tila\, jossa pystyy lempeästi antautumaan kehon ja mielen kireyksien kuunteluun ja armolliseen irti päästämiseen.”
URL:https://www.hellokuopio.fi/tapahtuma/yin-your-mind-kevaan-hyvinvointiviikonloppu/
LOCATION:Viljamaan kartano\, Riihijärventie 10\, Kaavi\, 73620
CATEGORIES:Hyvinvointitapahtumat
ATTACH;FMTTYPE=image/jpeg:https://www.hellokuopio.fi/app/uploads/2026/04/Yin_Your_Mind_tapahtumakalenteri.jpg
END:VEVENT
END:VCALENDAR