BEGIN:VCALENDAR
VERSION:2.0
PRODID:-//Hello Kuopio - ECPv6.15.17.1//NONSGML v1.0//EN
CALSCALE:GREGORIAN
METHOD:PUBLISH
X-WR-CALNAME:Hello Kuopio
X-ORIGINAL-URL:https://www.hellokuopio.fi
X-WR-CALDESC:Tapahtumat Hello Kuopio
REFRESH-INTERVAL;VALUE=DURATION:PT1H
X-Robots-Tag:noindex
X-PUBLISHED-TTL:PT1H
BEGIN:VTIMEZONE
TZID:Europe/Helsinki
BEGIN:DAYLIGHT
TZOFFSETFROM:+0200
TZOFFSETTO:+0300
TZNAME:EEST
DTSTART:20250330T010000
END:DAYLIGHT
BEGIN:STANDARD
TZOFFSETFROM:+0300
TZOFFSETTO:+0200
TZNAME:EET
DTSTART:20251026T010000
END:STANDARD
BEGIN:DAYLIGHT
TZOFFSETFROM:+0200
TZOFFSETTO:+0300
TZNAME:EEST
DTSTART:20260329T010000
END:DAYLIGHT
BEGIN:STANDARD
TZOFFSETFROM:+0300
TZOFFSETTO:+0200
TZNAME:EET
DTSTART:20261025T010000
END:STANDARD
BEGIN:DAYLIGHT
TZOFFSETFROM:+0200
TZOFFSETTO:+0300
TZNAME:EEST
DTSTART:20270328T010000
END:DAYLIGHT
BEGIN:STANDARD
TZOFFSETFROM:+0300
TZOFFSETTO:+0200
TZNAME:EET
DTSTART:20271031T010000
END:STANDARD
END:VTIMEZONE
BEGIN:VEVENT
DTSTART;TZID=Europe/Helsinki:20260517T160000
DTEND;TZID=Europe/Helsinki:20260517T173000
DTSTAMP:20260422T201306
CREATED:20260417T113207Z
LAST-MODIFIED:20260417T113207Z
UID:10026458-1779033600-1779039000@www.hellokuopio.fi
SUMMARY:Suvituulen säveliä
DESCRIPTION:Tervetuloa keväiseen konserttiin Hölökkälän idylliseen maalaismaisemaan. Ohjelmassa on luvassa kuulijoidemme toivekappaleita sellolle ja pianolle sovitettuna. \nEsiintyjinä sellisti Finlay Hare ja pianisti Iiris Hare. Vapaa pääsy\, käsiohjelma 10€. Kahvio auki klo 15.30 alkaen.
URL:https://www.hellokuopio.fi/tapahtuma/suvituulen-savelia/
LOCATION:Hölökkälän navetta\, Hölökkäläntie 54\, Kuopio\, 71150\, Suomi
CATEGORIES:Ilmaistapahtumat,Musiikkitapahtumat
ATTACH;FMTTYPE=image/jpeg:https://www.hellokuopio.fi/app/uploads/2026/04/Kevatkonsertti2026-e1776425513131.jpg
END:VEVENT
END:VCALENDAR