BEGIN:VCALENDAR
VERSION:2.0
PRODID:-//Hello Kuopio - ECPv6.15.17.1//NONSGML v1.0//EN
CALSCALE:GREGORIAN
METHOD:PUBLISH
X-WR-CALNAME:Hello Kuopio
X-ORIGINAL-URL:https://www.hellokuopio.fi
X-WR-CALDESC:Tapahtumat Hello Kuopio
REFRESH-INTERVAL;VALUE=DURATION:PT1H
X-Robots-Tag:noindex
X-PUBLISHED-TTL:PT1H
BEGIN:VTIMEZONE
TZID:Europe/Helsinki
BEGIN:DAYLIGHT
TZOFFSETFROM:+0200
TZOFFSETTO:+0300
TZNAME:EEST
DTSTART:20250330T010000
END:DAYLIGHT
BEGIN:STANDARD
TZOFFSETFROM:+0300
TZOFFSETTO:+0200
TZNAME:EET
DTSTART:20251026T010000
END:STANDARD
BEGIN:DAYLIGHT
TZOFFSETFROM:+0200
TZOFFSETTO:+0300
TZNAME:EEST
DTSTART:20260329T010000
END:DAYLIGHT
BEGIN:STANDARD
TZOFFSETFROM:+0300
TZOFFSETTO:+0200
TZNAME:EET
DTSTART:20261025T010000
END:STANDARD
BEGIN:DAYLIGHT
TZOFFSETFROM:+0200
TZOFFSETTO:+0300
TZNAME:EEST
DTSTART:20270328T010000
END:DAYLIGHT
BEGIN:STANDARD
TZOFFSETFROM:+0300
TZOFFSETTO:+0200
TZNAME:EET
DTSTART:20271031T010000
END:STANDARD
END:VTIMEZONE
BEGIN:VEVENT
DTSTART;TZID=Europe/Helsinki:20260426T190000
DTEND;TZID=Europe/Helsinki:20260426T190000
DTSTAMP:20260422T201838
CREATED:20260116T094508Z
LAST-MODIFIED:20260420T094536Z
UID:10024929-1777230000-1777230000@www.hellokuopio.fi
SUMMARY:Royal Rumble aka Bingo
DESCRIPTION:Joka sunnuntai klo 19.00 pelataan Kings & Queensissä Royal Rumble -bingoa! Osallistuminen maksutonta. \nIllan aikana pelataan vähintään 5 kierrosta. Jokaisella kierroksella pääpalkinto täydestä ruudukosta\, yksittäisistä riveistä luvassa sopivaa suun kostuketta. \nKauden finaali 31. toukokuuta – Megapalkinto 4 hengelle! Biketaxi-kuljetus Kings & Queensistä seikkailukeskukseen\, Seikkailukeskuksen RIB-venesafari Hietasalon kodalle\, räätälöity ”piknik” – hosted by Luke\, Biketaxi-kyyti takaisin Kings & Queensiin + virvokkeet perillä. \nMiten osallistut pääpalkinnon arvontaan? \nJokainen kierrosvoitto = yksi arpa finaaliin. Mitä useammin voitat kauden aikana\, sitä paremmat tsäänssit voittaa tämä elämyspaketti!
URL:https://www.hellokuopio.fi/tapahtuma/royal-rumble-aka-bingo/2026-04-26/
LOCATION:Kings and Queens\, Kauppakatu 29\, Kuopio\, 70100
CATEGORIES:Kulttuuritapahtumat
ATTACH;FMTTYPE=image/jpeg:https://www.hellokuopio.fi/app/uploads/2026/04/royal-rumble-aka-bingo-image_1.jpg
END:VEVENT
BEGIN:VEVENT
DTSTART;TZID=Europe/Helsinki:20260503T190000
DTEND;TZID=Europe/Helsinki:20260503T190000
DTSTAMP:20260422T201838
CREATED:20260116T094508Z
LAST-MODIFIED:20260420T094536Z
UID:10024930-1777834800-1777834800@www.hellokuopio.fi
SUMMARY:Royal Rumble aka Bingo
DESCRIPTION:Joka sunnuntai klo 19.00 pelataan Kings & Queensissä Royal Rumble -bingoa! Osallistuminen maksutonta. \nIllan aikana pelataan vähintään 5 kierrosta. Jokaisella kierroksella pääpalkinto täydestä ruudukosta\, yksittäisistä riveistä luvassa sopivaa suun kostuketta. \nKauden finaali 31. toukokuuta – Megapalkinto 4 hengelle! Biketaxi-kuljetus Kings & Queensistä seikkailukeskukseen\, Seikkailukeskuksen RIB-venesafari Hietasalon kodalle\, räätälöity ”piknik” – hosted by Luke\, Biketaxi-kyyti takaisin Kings & Queensiin + virvokkeet perillä. \nMiten osallistut pääpalkinnon arvontaan? \nJokainen kierrosvoitto = yksi arpa finaaliin. Mitä useammin voitat kauden aikana\, sitä paremmat tsäänssit voittaa tämä elämyspaketti!
URL:https://www.hellokuopio.fi/tapahtuma/royal-rumble-aka-bingo/2026-05-03/
LOCATION:Kings and Queens\, Kauppakatu 29\, Kuopio\, 70100
CATEGORIES:Kulttuuritapahtumat
ATTACH;FMTTYPE=image/jpeg:https://www.hellokuopio.fi/app/uploads/2026/04/royal-rumble-aka-bingo-image_1.jpg
END:VEVENT
BEGIN:VEVENT
DTSTART;TZID=Europe/Helsinki:20260510T190000
DTEND;TZID=Europe/Helsinki:20260510T190000
DTSTAMP:20260422T201838
CREATED:20260116T094508Z
LAST-MODIFIED:20260420T094536Z
UID:10024931-1778439600-1778439600@www.hellokuopio.fi
SUMMARY:Royal Rumble aka Bingo
DESCRIPTION:Joka sunnuntai klo 19.00 pelataan Kings & Queensissä Royal Rumble -bingoa! Osallistuminen maksutonta. \nIllan aikana pelataan vähintään 5 kierrosta. Jokaisella kierroksella pääpalkinto täydestä ruudukosta\, yksittäisistä riveistä luvassa sopivaa suun kostuketta. \nKauden finaali 31. toukokuuta – Megapalkinto 4 hengelle! Biketaxi-kuljetus Kings & Queensistä seikkailukeskukseen\, Seikkailukeskuksen RIB-venesafari Hietasalon kodalle\, räätälöity ”piknik” – hosted by Luke\, Biketaxi-kyyti takaisin Kings & Queensiin + virvokkeet perillä. \nMiten osallistut pääpalkinnon arvontaan? \nJokainen kierrosvoitto = yksi arpa finaaliin. Mitä useammin voitat kauden aikana\, sitä paremmat tsäänssit voittaa tämä elämyspaketti!
URL:https://www.hellokuopio.fi/tapahtuma/royal-rumble-aka-bingo/2026-05-10/
LOCATION:Kings and Queens\, Kauppakatu 29\, Kuopio\, 70100
CATEGORIES:Kulttuuritapahtumat
ATTACH;FMTTYPE=image/jpeg:https://www.hellokuopio.fi/app/uploads/2026/04/royal-rumble-aka-bingo-image_1.jpg
END:VEVENT
BEGIN:VEVENT
DTSTART;TZID=Europe/Helsinki:20260517T190000
DTEND;TZID=Europe/Helsinki:20260517T190000
DTSTAMP:20260422T201838
CREATED:20260116T094508Z
LAST-MODIFIED:20260420T094536Z
UID:10024932-1779044400-1779044400@www.hellokuopio.fi
SUMMARY:Royal Rumble aka Bingo
DESCRIPTION:Joka sunnuntai klo 19.00 pelataan Kings & Queensissä Royal Rumble -bingoa! Osallistuminen maksutonta. \nIllan aikana pelataan vähintään 5 kierrosta. Jokaisella kierroksella pääpalkinto täydestä ruudukosta\, yksittäisistä riveistä luvassa sopivaa suun kostuketta. \nKauden finaali 31. toukokuuta – Megapalkinto 4 hengelle! Biketaxi-kuljetus Kings & Queensistä seikkailukeskukseen\, Seikkailukeskuksen RIB-venesafari Hietasalon kodalle\, räätälöity ”piknik” – hosted by Luke\, Biketaxi-kyyti takaisin Kings & Queensiin + virvokkeet perillä. \nMiten osallistut pääpalkinnon arvontaan? \nJokainen kierrosvoitto = yksi arpa finaaliin. Mitä useammin voitat kauden aikana\, sitä paremmat tsäänssit voittaa tämä elämyspaketti!
URL:https://www.hellokuopio.fi/tapahtuma/royal-rumble-aka-bingo/2026-05-17/
LOCATION:Kings and Queens\, Kauppakatu 29\, Kuopio\, 70100
CATEGORIES:Kulttuuritapahtumat
ATTACH;FMTTYPE=image/jpeg:https://www.hellokuopio.fi/app/uploads/2026/04/royal-rumble-aka-bingo-image_1.jpg
END:VEVENT
BEGIN:VEVENT
DTSTART;TZID=Europe/Helsinki:20260524T190000
DTEND;TZID=Europe/Helsinki:20260524T190000
DTSTAMP:20260422T201838
CREATED:20260116T094508Z
LAST-MODIFIED:20260420T094536Z
UID:10024933-1779649200-1779649200@www.hellokuopio.fi
SUMMARY:Royal Rumble aka Bingo
DESCRIPTION:Joka sunnuntai klo 19.00 pelataan Kings & Queensissä Royal Rumble -bingoa! Osallistuminen maksutonta. \nIllan aikana pelataan vähintään 5 kierrosta. Jokaisella kierroksella pääpalkinto täydestä ruudukosta\, yksittäisistä riveistä luvassa sopivaa suun kostuketta. \nKauden finaali 31. toukokuuta – Megapalkinto 4 hengelle! Biketaxi-kuljetus Kings & Queensistä seikkailukeskukseen\, Seikkailukeskuksen RIB-venesafari Hietasalon kodalle\, räätälöity ”piknik” – hosted by Luke\, Biketaxi-kyyti takaisin Kings & Queensiin + virvokkeet perillä. \nMiten osallistut pääpalkinnon arvontaan? \nJokainen kierrosvoitto = yksi arpa finaaliin. Mitä useammin voitat kauden aikana\, sitä paremmat tsäänssit voittaa tämä elämyspaketti!
URL:https://www.hellokuopio.fi/tapahtuma/royal-rumble-aka-bingo/2026-05-24/
LOCATION:Kings and Queens\, Kauppakatu 29\, Kuopio\, 70100
CATEGORIES:Kulttuuritapahtumat
ATTACH;FMTTYPE=image/jpeg:https://www.hellokuopio.fi/app/uploads/2026/04/royal-rumble-aka-bingo-image_1.jpg
END:VEVENT
BEGIN:VEVENT
DTSTART;TZID=Europe/Helsinki:20260531T190000
DTEND;TZID=Europe/Helsinki:20260531T190000
DTSTAMP:20260422T201838
CREATED:20260116T094508Z
LAST-MODIFIED:20260420T094536Z
UID:10024934-1780254000-1780254000@www.hellokuopio.fi
SUMMARY:Royal Rumble aka Bingo
DESCRIPTION:Joka sunnuntai klo 19.00 pelataan Kings & Queensissä Royal Rumble -bingoa! Osallistuminen maksutonta. \nIllan aikana pelataan vähintään 5 kierrosta. Jokaisella kierroksella pääpalkinto täydestä ruudukosta\, yksittäisistä riveistä luvassa sopivaa suun kostuketta. \nKauden finaali 31. toukokuuta – Megapalkinto 4 hengelle! Biketaxi-kuljetus Kings & Queensistä seikkailukeskukseen\, Seikkailukeskuksen RIB-venesafari Hietasalon kodalle\, räätälöity ”piknik” – hosted by Luke\, Biketaxi-kyyti takaisin Kings & Queensiin + virvokkeet perillä. \nMiten osallistut pääpalkinnon arvontaan? \nJokainen kierrosvoitto = yksi arpa finaaliin. Mitä useammin voitat kauden aikana\, sitä paremmat tsäänssit voittaa tämä elämyspaketti!
URL:https://www.hellokuopio.fi/tapahtuma/royal-rumble-aka-bingo/2026-05-31/
LOCATION:Kings and Queens\, Kauppakatu 29\, Kuopio\, 70100
CATEGORIES:Kulttuuritapahtumat
ATTACH;FMTTYPE=image/jpeg:https://www.hellokuopio.fi/app/uploads/2026/04/royal-rumble-aka-bingo-image_1.jpg
END:VEVENT
END:VCALENDAR