BEGIN:VCALENDAR
VERSION:2.0
PRODID:-//Hello Kuopio - ECPv6.15.17.1//NONSGML v1.0//EN
CALSCALE:GREGORIAN
METHOD:PUBLISH
X-WR-CALNAME:Hello Kuopio
X-ORIGINAL-URL:https://www.hellokuopio.fi
X-WR-CALDESC:Tapahtumat Hello Kuopio
REFRESH-INTERVAL;VALUE=DURATION:PT1H
X-Robots-Tag:noindex
X-PUBLISHED-TTL:PT1H
BEGIN:VTIMEZONE
TZID:Europe/Helsinki
BEGIN:DAYLIGHT
TZOFFSETFROM:+0200
TZOFFSETTO:+0300
TZNAME:EEST
DTSTART:20250330T010000
END:DAYLIGHT
BEGIN:STANDARD
TZOFFSETFROM:+0300
TZOFFSETTO:+0200
TZNAME:EET
DTSTART:20251026T010000
END:STANDARD
BEGIN:DAYLIGHT
TZOFFSETFROM:+0200
TZOFFSETTO:+0300
TZNAME:EEST
DTSTART:20260329T010000
END:DAYLIGHT
BEGIN:STANDARD
TZOFFSETFROM:+0300
TZOFFSETTO:+0200
TZNAME:EET
DTSTART:20261025T010000
END:STANDARD
BEGIN:DAYLIGHT
TZOFFSETFROM:+0200
TZOFFSETTO:+0300
TZNAME:EEST
DTSTART:20270328T010000
END:DAYLIGHT
BEGIN:STANDARD
TZOFFSETFROM:+0300
TZOFFSETTO:+0200
TZNAME:EET
DTSTART:20271031T010000
END:STANDARD
END:VTIMEZONE
BEGIN:VEVENT
DTSTART;TZID=Europe/Helsinki:20260514T190000
DTEND;TZID=Europe/Helsinki:20260514T223000
DTSTAMP:20260422T185858
CREATED:20260305T121509Z
LAST-MODIFIED:20260416T121544Z
UID:10025480-1778785200-1778797800@www.hellokuopio.fi
SUMMARY:Helatorstain Tanssit
DESCRIPTION:Helatorstain tanssit Riistaveden Mantulla 14.5.2026 kello 19-22:30. \nTervetuloa viettämään tunnelmallista tanssi-iltaa perinteisiin Helatorstain tansseihin Kuopioon Riistaveden Mantulle. Osoite Keskustie 9\, 71160 Riistavesi. \nTanssittamassa: \nTrio Illusion \nAlina Liikola \nTero Ossi \nPasi Pehkonen \nLiput 16\,50€  sisältää kahvin ja pullan. Luvassa iloista tunnelmaa\, hyvää musiikkia ja kesäillan tanssin riemua Mantun upeassa miljöössä. Tervetuloa!
URL:https://www.hellokuopio.fi/tapahtuma/helatorstain-tanssit/
LOCATION:Riistaveden Manttu\, Keskustie 9\, Riistavesi\, 71160
CATEGORIES:Musiikkitapahtumat
ATTACH;FMTTYPE=image/jpeg:https://www.hellokuopio.fi/app/uploads/2026/04/helatorstain-tanssit-image_1.jpg
END:VEVENT
END:VCALENDAR