BEGIN:VCALENDAR
VERSION:2.0
PRODID:-//Hello Kuopio - ECPv6.15.17.1//NONSGML v1.0//EN
CALSCALE:GREGORIAN
METHOD:PUBLISH
X-WR-CALNAME:Hello Kuopio
X-ORIGINAL-URL:https://www.hellokuopio.fi
X-WR-CALDESC:Tapahtumat Hello Kuopio
REFRESH-INTERVAL;VALUE=DURATION:PT1H
X-Robots-Tag:noindex
X-PUBLISHED-TTL:PT1H
BEGIN:VTIMEZONE
TZID:Europe/Helsinki
BEGIN:DAYLIGHT
TZOFFSETFROM:+0200
TZOFFSETTO:+0300
TZNAME:EEST
DTSTART:20250330T010000
END:DAYLIGHT
BEGIN:STANDARD
TZOFFSETFROM:+0300
TZOFFSETTO:+0200
TZNAME:EET
DTSTART:20251026T010000
END:STANDARD
BEGIN:DAYLIGHT
TZOFFSETFROM:+0200
TZOFFSETTO:+0300
TZNAME:EEST
DTSTART:20260329T010000
END:DAYLIGHT
BEGIN:STANDARD
TZOFFSETFROM:+0300
TZOFFSETTO:+0200
TZNAME:EET
DTSTART:20261025T010000
END:STANDARD
BEGIN:DAYLIGHT
TZOFFSETFROM:+0200
TZOFFSETTO:+0300
TZNAME:EEST
DTSTART:20270328T010000
END:DAYLIGHT
BEGIN:STANDARD
TZOFFSETFROM:+0300
TZOFFSETTO:+0200
TZNAME:EET
DTSTART:20271031T010000
END:STANDARD
END:VTIMEZONE
BEGIN:VEVENT
DTSTART;TZID=Europe/Helsinki:20260520T140000
DTEND;TZID=Europe/Helsinki:20260520T170000
DTSTAMP:20260422T172300
CREATED:20260417T081148Z
LAST-MODIFIED:20260417T081309Z
UID:10026507-1779285600-1779296400@www.hellokuopio.fi
SUMMARY:Fysiotreffit
DESCRIPTION:Vaivaako polvi tai lonkka? Olisiko aika pienille fysiotreffeille? Tapahtuma järjestetään ke 20.5. klo 14-17 osoitteessa Tulliportinkatu 25. Tule paikalle\, kun sinulle sopii\, ei erillistä ajanvarausta. \nFysiotreffit on matalan kynnyksen tapahtuma sinulle\, joka mietit\, voisiko fysioterapiasta olla apua juuri omaan tilanteeseesi. Saat maksuttoman 15 min fysioterapeutin arvion polvesi tai lonkkasi vaivoista. Käynti sisältää oireiden lyhyen kartoituksen sekä polven ja lonkan liikkeen\, liikkuvuuden ja kuormittumisen arvioinnin. Lisäksi saat kotiohjeet\, joilla pääset heti alkuun. \nTämä on helppo tapa selvittää\, mistä kipu johtuu – ja mitä voit tehdä sille heti. Saat mukaasi myös vastuskuminauhan harjoittelun tueksi.
URL:https://www.hellokuopio.fi/tapahtuma/fysiotreffit/
LOCATION:Tulliportinkatu 25\, Tulliportinkatu 25\, Kuopio\, 70600
CATEGORIES:Hyvinvointitapahtumat,Ilmaistapahtumat
ATTACH;FMTTYPE=image/jpeg:https://www.hellokuopio.fi/app/uploads/2026/04/Coronaria_kuntoutus_fysiotreffit_kampanjakuva_kevat2026_pallo-e1776413406183.jpg
END:VEVENT
END:VCALENDAR