BEGIN:VCALENDAR
VERSION:2.0
PRODID:-//Hello Kuopio - ECPv6.15.17.1//NONSGML v1.0//EN
CALSCALE:GREGORIAN
METHOD:PUBLISH
X-WR-CALNAME:Hello Kuopio
X-ORIGINAL-URL:https://www.hellokuopio.fi
X-WR-CALDESC:Tapahtumat Hello Kuopio
REFRESH-INTERVAL;VALUE=DURATION:PT1H
X-Robots-Tag:noindex
X-PUBLISHED-TTL:PT1H
BEGIN:VTIMEZONE
TZID:Europe/Helsinki
BEGIN:DAYLIGHT
TZOFFSETFROM:+0200
TZOFFSETTO:+0300
TZNAME:EEST
DTSTART:20250330T010000
END:DAYLIGHT
BEGIN:STANDARD
TZOFFSETFROM:+0300
TZOFFSETTO:+0200
TZNAME:EET
DTSTART:20251026T010000
END:STANDARD
BEGIN:DAYLIGHT
TZOFFSETFROM:+0200
TZOFFSETTO:+0300
TZNAME:EEST
DTSTART:20260329T010000
END:DAYLIGHT
BEGIN:STANDARD
TZOFFSETFROM:+0300
TZOFFSETTO:+0200
TZNAME:EET
DTSTART:20261025T010000
END:STANDARD
BEGIN:DAYLIGHT
TZOFFSETFROM:+0200
TZOFFSETTO:+0300
TZNAME:EEST
DTSTART:20270328T010000
END:DAYLIGHT
BEGIN:STANDARD
TZOFFSETFROM:+0300
TZOFFSETTO:+0200
TZNAME:EET
DTSTART:20271031T010000
END:STANDARD
END:VTIMEZONE
BEGIN:VEVENT
DTSTART;TZID=Europe/Helsinki:20260601T100000
DTEND;TZID=Europe/Helsinki:20260601T130000
DTSTAMP:20260423T034205
CREATED:20250807T061909Z
LAST-MODIFIED:20260413T094118Z
UID:10026467-1780308000-1780318800@www.hellokuopio.fi
SUMMARY:Muksuaamu
DESCRIPTION:Muksuaamu on SuperPark Tahkon sesonkiaikojen tarjous pienten lasten perheille. \nMuksuaamuna puistoon ovat tervetulleita kaiken ikäiset\, mutta hinnoittelussa suositaan alle kouluikäisten perheitä. Muksuaamu kestää 3 tuntia\, aamu alkaa klo 10 ja päättyy klo 13. \n\nMuksuaamun hinta on 19 € / alle kouluikäinen muksu + täysi-ikäinen huoltaja.\nLisämuksu tai toinen aikuinen pääsevät muksuaamuun kympillä. Liput ovat Teho 2h rannekkeita.\nLippuja myydään vain Tahko Spa Hotellin vastaanoton tiskillä\, klo 10.00-11.30 välisenä aikana.
URL:https://www.hellokuopio.fi/tapahtuma/muksuaamu/2026-06-01/
LOCATION:SuperPark Tahko\, Keitaankatu 1\, Tahkovuori\, 73310
CATEGORIES:Lasten tapahtumat,Tahko
ATTACH;FMTTYPE=image/jpeg:https://www.hellokuopio.fi/app/uploads/2025/01/SuperPark-Tahko-Muksuaamut.jpg
GEO:63.2909907;28.0420862
X-APPLE-STRUCTURED-LOCATION;VALUE=URI;X-ADDRESS=SuperPark Tahko Keitaankatu 1 Tahkovuori 73310;X-APPLE-RADIUS=500;X-TITLE=Keitaankatu 1:geo:28.0420862,63.2909907
END:VEVENT
BEGIN:VEVENT
DTSTART;TZID=Europe/Helsinki:20260608T100000
DTEND;TZID=Europe/Helsinki:20260608T130000
DTSTAMP:20260423T034205
CREATED:20250807T061909Z
LAST-MODIFIED:20260413T094118Z
UID:10026468-1780912800-1780923600@www.hellokuopio.fi
SUMMARY:Muksuaamu
DESCRIPTION:Muksuaamu on SuperPark Tahkon sesonkiaikojen tarjous pienten lasten perheille. \nMuksuaamuna puistoon ovat tervetulleita kaiken ikäiset\, mutta hinnoittelussa suositaan alle kouluikäisten perheitä. Muksuaamu kestää 3 tuntia\, aamu alkaa klo 10 ja päättyy klo 13. \n\nMuksuaamun hinta on 19 € / alle kouluikäinen muksu + täysi-ikäinen huoltaja.\nLisämuksu tai toinen aikuinen pääsevät muksuaamuun kympillä. Liput ovat Teho 2h rannekkeita.\nLippuja myydään vain Tahko Spa Hotellin vastaanoton tiskillä\, klo 10.00-11.30 välisenä aikana.
URL:https://www.hellokuopio.fi/tapahtuma/muksuaamu/2026-06-08/
LOCATION:SuperPark Tahko\, Keitaankatu 1\, Tahkovuori\, 73310
CATEGORIES:Lasten tapahtumat,Tahko
ATTACH;FMTTYPE=image/jpeg:https://www.hellokuopio.fi/app/uploads/2025/01/SuperPark-Tahko-Muksuaamut.jpg
GEO:63.2909907;28.0420862
X-APPLE-STRUCTURED-LOCATION;VALUE=URI;X-ADDRESS=SuperPark Tahko Keitaankatu 1 Tahkovuori 73310;X-APPLE-RADIUS=500;X-TITLE=Keitaankatu 1:geo:28.0420862,63.2909907
END:VEVENT
BEGIN:VEVENT
DTSTART;TZID=Europe/Helsinki:20260615T100000
DTEND;TZID=Europe/Helsinki:20260615T130000
DTSTAMP:20260423T034205
CREATED:20250807T061909Z
LAST-MODIFIED:20260413T094118Z
UID:10026469-1781517600-1781528400@www.hellokuopio.fi
SUMMARY:Muksuaamu
DESCRIPTION:Muksuaamu on SuperPark Tahkon sesonkiaikojen tarjous pienten lasten perheille. \nMuksuaamuna puistoon ovat tervetulleita kaiken ikäiset\, mutta hinnoittelussa suositaan alle kouluikäisten perheitä. Muksuaamu kestää 3 tuntia\, aamu alkaa klo 10 ja päättyy klo 13. \n\nMuksuaamun hinta on 19 € / alle kouluikäinen muksu + täysi-ikäinen huoltaja.\nLisämuksu tai toinen aikuinen pääsevät muksuaamuun kympillä. Liput ovat Teho 2h rannekkeita.\nLippuja myydään vain Tahko Spa Hotellin vastaanoton tiskillä\, klo 10.00-11.30 välisenä aikana.
URL:https://www.hellokuopio.fi/tapahtuma/muksuaamu/2026-06-15/
LOCATION:SuperPark Tahko\, Keitaankatu 1\, Tahkovuori\, 73310
CATEGORIES:Lasten tapahtumat,Tahko
ATTACH;FMTTYPE=image/jpeg:https://www.hellokuopio.fi/app/uploads/2025/01/SuperPark-Tahko-Muksuaamut.jpg
GEO:63.2909907;28.0420862
X-APPLE-STRUCTURED-LOCATION;VALUE=URI;X-ADDRESS=SuperPark Tahko Keitaankatu 1 Tahkovuori 73310;X-APPLE-RADIUS=500;X-TITLE=Keitaankatu 1:geo:28.0420862,63.2909907
END:VEVENT
BEGIN:VEVENT
DTSTART;TZID=Europe/Helsinki:20260622T100000
DTEND;TZID=Europe/Helsinki:20260622T130000
DTSTAMP:20260423T034205
CREATED:20250807T061909Z
LAST-MODIFIED:20260413T094118Z
UID:10026470-1782122400-1782133200@www.hellokuopio.fi
SUMMARY:Muksuaamu
DESCRIPTION:Muksuaamu on SuperPark Tahkon sesonkiaikojen tarjous pienten lasten perheille. \nMuksuaamuna puistoon ovat tervetulleita kaiken ikäiset\, mutta hinnoittelussa suositaan alle kouluikäisten perheitä. Muksuaamu kestää 3 tuntia\, aamu alkaa klo 10 ja päättyy klo 13. \n\nMuksuaamun hinta on 19 € / alle kouluikäinen muksu + täysi-ikäinen huoltaja.\nLisämuksu tai toinen aikuinen pääsevät muksuaamuun kympillä. Liput ovat Teho 2h rannekkeita.\nLippuja myydään vain Tahko Spa Hotellin vastaanoton tiskillä\, klo 10.00-11.30 välisenä aikana.
URL:https://www.hellokuopio.fi/tapahtuma/muksuaamu/2026-06-22/
LOCATION:SuperPark Tahko\, Keitaankatu 1\, Tahkovuori\, 73310
CATEGORIES:Lasten tapahtumat,Tahko
ATTACH;FMTTYPE=image/jpeg:https://www.hellokuopio.fi/app/uploads/2025/01/SuperPark-Tahko-Muksuaamut.jpg
GEO:63.2909907;28.0420862
X-APPLE-STRUCTURED-LOCATION;VALUE=URI;X-ADDRESS=SuperPark Tahko Keitaankatu 1 Tahkovuori 73310;X-APPLE-RADIUS=500;X-TITLE=Keitaankatu 1:geo:28.0420862,63.2909907
END:VEVENT
BEGIN:VEVENT
DTSTART;TZID=Europe/Helsinki:20260702T100000
DTEND;TZID=Europe/Helsinki:20260702T130000
DTSTAMP:20260423T034205
CREATED:20250807T061909Z
LAST-MODIFIED:20260413T094118Z
UID:10026471-1782986400-1782997200@www.hellokuopio.fi
SUMMARY:Muksuaamu
DESCRIPTION:Muksuaamu on SuperPark Tahkon sesonkiaikojen tarjous pienten lasten perheille. \nMuksuaamuna puistoon ovat tervetulleita kaiken ikäiset\, mutta hinnoittelussa suositaan alle kouluikäisten perheitä. Muksuaamu kestää 3 tuntia\, aamu alkaa klo 10 ja päättyy klo 13. \n\nMuksuaamun hinta on 19 € / alle kouluikäinen muksu + täysi-ikäinen huoltaja.\nLisämuksu tai toinen aikuinen pääsevät muksuaamuun kympillä. Liput ovat Teho 2h rannekkeita.\nLippuja myydään vain Tahko Spa Hotellin vastaanoton tiskillä\, klo 10.00-11.30 välisenä aikana.
URL:https://www.hellokuopio.fi/tapahtuma/muksuaamu/2026-07-02/
LOCATION:SuperPark Tahko\, Keitaankatu 1\, Tahkovuori\, 73310
CATEGORIES:Lasten tapahtumat,Tahko
ATTACH;FMTTYPE=image/jpeg:https://www.hellokuopio.fi/app/uploads/2025/01/SuperPark-Tahko-Muksuaamut.jpg
GEO:63.2909907;28.0420862
X-APPLE-STRUCTURED-LOCATION;VALUE=URI;X-ADDRESS=SuperPark Tahko Keitaankatu 1 Tahkovuori 73310;X-APPLE-RADIUS=500;X-TITLE=Keitaankatu 1:geo:28.0420862,63.2909907
END:VEVENT
BEGIN:VEVENT
DTSTART;TZID=Europe/Helsinki:20260706T100000
DTEND;TZID=Europe/Helsinki:20260706T130000
DTSTAMP:20260423T034205
CREATED:20250807T061909Z
LAST-MODIFIED:20260413T094118Z
UID:10026472-1783332000-1783342800@www.hellokuopio.fi
SUMMARY:Muksuaamu
DESCRIPTION:Muksuaamu on SuperPark Tahkon sesonkiaikojen tarjous pienten lasten perheille. \nMuksuaamuna puistoon ovat tervetulleita kaiken ikäiset\, mutta hinnoittelussa suositaan alle kouluikäisten perheitä. Muksuaamu kestää 3 tuntia\, aamu alkaa klo 10 ja päättyy klo 13. \n\nMuksuaamun hinta on 19 € / alle kouluikäinen muksu + täysi-ikäinen huoltaja.\nLisämuksu tai toinen aikuinen pääsevät muksuaamuun kympillä. Liput ovat Teho 2h rannekkeita.\nLippuja myydään vain Tahko Spa Hotellin vastaanoton tiskillä\, klo 10.00-11.30 välisenä aikana.
URL:https://www.hellokuopio.fi/tapahtuma/muksuaamu/2026-07-06/
LOCATION:SuperPark Tahko\, Keitaankatu 1\, Tahkovuori\, 73310
CATEGORIES:Lasten tapahtumat,Tahko
ATTACH;FMTTYPE=image/jpeg:https://www.hellokuopio.fi/app/uploads/2025/01/SuperPark-Tahko-Muksuaamut.jpg
GEO:63.2909907;28.0420862
X-APPLE-STRUCTURED-LOCATION;VALUE=URI;X-ADDRESS=SuperPark Tahko Keitaankatu 1 Tahkovuori 73310;X-APPLE-RADIUS=500;X-TITLE=Keitaankatu 1:geo:28.0420862,63.2909907
END:VEVENT
BEGIN:VEVENT
DTSTART;TZID=Europe/Helsinki:20260709T100000
DTEND;TZID=Europe/Helsinki:20260709T130000
DTSTAMP:20260423T034205
CREATED:20250807T061909Z
LAST-MODIFIED:20260413T094118Z
UID:10026473-1783591200-1783602000@www.hellokuopio.fi
SUMMARY:Muksuaamu
DESCRIPTION:Muksuaamu on SuperPark Tahkon sesonkiaikojen tarjous pienten lasten perheille. \nMuksuaamuna puistoon ovat tervetulleita kaiken ikäiset\, mutta hinnoittelussa suositaan alle kouluikäisten perheitä. Muksuaamu kestää 3 tuntia\, aamu alkaa klo 10 ja päättyy klo 13. \n\nMuksuaamun hinta on 19 € / alle kouluikäinen muksu + täysi-ikäinen huoltaja.\nLisämuksu tai toinen aikuinen pääsevät muksuaamuun kympillä. Liput ovat Teho 2h rannekkeita.\nLippuja myydään vain Tahko Spa Hotellin vastaanoton tiskillä\, klo 10.00-11.30 välisenä aikana.
URL:https://www.hellokuopio.fi/tapahtuma/muksuaamu/2026-07-09/
LOCATION:SuperPark Tahko\, Keitaankatu 1\, Tahkovuori\, 73310
CATEGORIES:Lasten tapahtumat,Tahko
ATTACH;FMTTYPE=image/jpeg:https://www.hellokuopio.fi/app/uploads/2025/01/SuperPark-Tahko-Muksuaamut.jpg
GEO:63.2909907;28.0420862
X-APPLE-STRUCTURED-LOCATION;VALUE=URI;X-ADDRESS=SuperPark Tahko Keitaankatu 1 Tahkovuori 73310;X-APPLE-RADIUS=500;X-TITLE=Keitaankatu 1:geo:28.0420862,63.2909907
END:VEVENT
BEGIN:VEVENT
DTSTART;TZID=Europe/Helsinki:20260713T100000
DTEND;TZID=Europe/Helsinki:20260713T130000
DTSTAMP:20260423T034205
CREATED:20250807T061909Z
LAST-MODIFIED:20260413T094118Z
UID:10026474-1783936800-1783947600@www.hellokuopio.fi
SUMMARY:Muksuaamu
DESCRIPTION:Muksuaamu on SuperPark Tahkon sesonkiaikojen tarjous pienten lasten perheille. \nMuksuaamuna puistoon ovat tervetulleita kaiken ikäiset\, mutta hinnoittelussa suositaan alle kouluikäisten perheitä. Muksuaamu kestää 3 tuntia\, aamu alkaa klo 10 ja päättyy klo 13. \n\nMuksuaamun hinta on 19 € / alle kouluikäinen muksu + täysi-ikäinen huoltaja.\nLisämuksu tai toinen aikuinen pääsevät muksuaamuun kympillä. Liput ovat Teho 2h rannekkeita.\nLippuja myydään vain Tahko Spa Hotellin vastaanoton tiskillä\, klo 10.00-11.30 välisenä aikana.
URL:https://www.hellokuopio.fi/tapahtuma/muksuaamu/2026-07-13/
LOCATION:SuperPark Tahko\, Keitaankatu 1\, Tahkovuori\, 73310
CATEGORIES:Lasten tapahtumat,Tahko
ATTACH;FMTTYPE=image/jpeg:https://www.hellokuopio.fi/app/uploads/2025/01/SuperPark-Tahko-Muksuaamut.jpg
GEO:63.2909907;28.0420862
X-APPLE-STRUCTURED-LOCATION;VALUE=URI;X-ADDRESS=SuperPark Tahko Keitaankatu 1 Tahkovuori 73310;X-APPLE-RADIUS=500;X-TITLE=Keitaankatu 1:geo:28.0420862,63.2909907
END:VEVENT
BEGIN:VEVENT
DTSTART;TZID=Europe/Helsinki:20260716T100000
DTEND;TZID=Europe/Helsinki:20260716T130000
DTSTAMP:20260423T034205
CREATED:20250807T061909Z
LAST-MODIFIED:20260413T094118Z
UID:10026475-1784196000-1784206800@www.hellokuopio.fi
SUMMARY:Muksuaamu
DESCRIPTION:Muksuaamu on SuperPark Tahkon sesonkiaikojen tarjous pienten lasten perheille. \nMuksuaamuna puistoon ovat tervetulleita kaiken ikäiset\, mutta hinnoittelussa suositaan alle kouluikäisten perheitä. Muksuaamu kestää 3 tuntia\, aamu alkaa klo 10 ja päättyy klo 13. \n\nMuksuaamun hinta on 19 € / alle kouluikäinen muksu + täysi-ikäinen huoltaja.\nLisämuksu tai toinen aikuinen pääsevät muksuaamuun kympillä. Liput ovat Teho 2h rannekkeita.\nLippuja myydään vain Tahko Spa Hotellin vastaanoton tiskillä\, klo 10.00-11.30 välisenä aikana.
URL:https://www.hellokuopio.fi/tapahtuma/muksuaamu/2026-07-16/
LOCATION:SuperPark Tahko\, Keitaankatu 1\, Tahkovuori\, 73310
CATEGORIES:Lasten tapahtumat,Tahko
ATTACH;FMTTYPE=image/jpeg:https://www.hellokuopio.fi/app/uploads/2025/01/SuperPark-Tahko-Muksuaamut.jpg
GEO:63.2909907;28.0420862
X-APPLE-STRUCTURED-LOCATION;VALUE=URI;X-ADDRESS=SuperPark Tahko Keitaankatu 1 Tahkovuori 73310;X-APPLE-RADIUS=500;X-TITLE=Keitaankatu 1:geo:28.0420862,63.2909907
END:VEVENT
BEGIN:VEVENT
DTSTART;TZID=Europe/Helsinki:20260720T100000
DTEND;TZID=Europe/Helsinki:20260720T130000
DTSTAMP:20260423T034205
CREATED:20250807T061909Z
LAST-MODIFIED:20260413T094118Z
UID:10026476-1784541600-1784552400@www.hellokuopio.fi
SUMMARY:Muksuaamu
DESCRIPTION:Muksuaamu on SuperPark Tahkon sesonkiaikojen tarjous pienten lasten perheille. \nMuksuaamuna puistoon ovat tervetulleita kaiken ikäiset\, mutta hinnoittelussa suositaan alle kouluikäisten perheitä. Muksuaamu kestää 3 tuntia\, aamu alkaa klo 10 ja päättyy klo 13. \n\nMuksuaamun hinta on 19 € / alle kouluikäinen muksu + täysi-ikäinen huoltaja.\nLisämuksu tai toinen aikuinen pääsevät muksuaamuun kympillä. Liput ovat Teho 2h rannekkeita.\nLippuja myydään vain Tahko Spa Hotellin vastaanoton tiskillä\, klo 10.00-11.30 välisenä aikana.
URL:https://www.hellokuopio.fi/tapahtuma/muksuaamu/2026-07-20/
LOCATION:SuperPark Tahko\, Keitaankatu 1\, Tahkovuori\, 73310
CATEGORIES:Lasten tapahtumat,Tahko
ATTACH;FMTTYPE=image/jpeg:https://www.hellokuopio.fi/app/uploads/2025/01/SuperPark-Tahko-Muksuaamut.jpg
GEO:63.2909907;28.0420862
X-APPLE-STRUCTURED-LOCATION;VALUE=URI;X-ADDRESS=SuperPark Tahko Keitaankatu 1 Tahkovuori 73310;X-APPLE-RADIUS=500;X-TITLE=Keitaankatu 1:geo:28.0420862,63.2909907
END:VEVENT
BEGIN:VEVENT
DTSTART;TZID=Europe/Helsinki:20260723T100000
DTEND;TZID=Europe/Helsinki:20260723T130000
DTSTAMP:20260423T034205
CREATED:20250807T061909Z
LAST-MODIFIED:20260413T094118Z
UID:10026477-1784800800-1784811600@www.hellokuopio.fi
SUMMARY:Muksuaamu
DESCRIPTION:Muksuaamu on SuperPark Tahkon sesonkiaikojen tarjous pienten lasten perheille. \nMuksuaamuna puistoon ovat tervetulleita kaiken ikäiset\, mutta hinnoittelussa suositaan alle kouluikäisten perheitä. Muksuaamu kestää 3 tuntia\, aamu alkaa klo 10 ja päättyy klo 13. \n\nMuksuaamun hinta on 19 € / alle kouluikäinen muksu + täysi-ikäinen huoltaja.\nLisämuksu tai toinen aikuinen pääsevät muksuaamuun kympillä. Liput ovat Teho 2h rannekkeita.\nLippuja myydään vain Tahko Spa Hotellin vastaanoton tiskillä\, klo 10.00-11.30 välisenä aikana.
URL:https://www.hellokuopio.fi/tapahtuma/muksuaamu/2026-07-23/
LOCATION:SuperPark Tahko\, Keitaankatu 1\, Tahkovuori\, 73310
CATEGORIES:Lasten tapahtumat,Tahko
ATTACH;FMTTYPE=image/jpeg:https://www.hellokuopio.fi/app/uploads/2025/01/SuperPark-Tahko-Muksuaamut.jpg
GEO:63.2909907;28.0420862
X-APPLE-STRUCTURED-LOCATION;VALUE=URI;X-ADDRESS=SuperPark Tahko Keitaankatu 1 Tahkovuori 73310;X-APPLE-RADIUS=500;X-TITLE=Keitaankatu 1:geo:28.0420862,63.2909907
END:VEVENT
BEGIN:VEVENT
DTSTART;TZID=Europe/Helsinki:20260727T100000
DTEND;TZID=Europe/Helsinki:20260727T130000
DTSTAMP:20260423T034205
CREATED:20250807T061909Z
LAST-MODIFIED:20260413T094118Z
UID:10026478-1785146400-1785157200@www.hellokuopio.fi
SUMMARY:Muksuaamu
DESCRIPTION:Muksuaamu on SuperPark Tahkon sesonkiaikojen tarjous pienten lasten perheille. \nMuksuaamuna puistoon ovat tervetulleita kaiken ikäiset\, mutta hinnoittelussa suositaan alle kouluikäisten perheitä. Muksuaamu kestää 3 tuntia\, aamu alkaa klo 10 ja päättyy klo 13. \n\nMuksuaamun hinta on 19 € / alle kouluikäinen muksu + täysi-ikäinen huoltaja.\nLisämuksu tai toinen aikuinen pääsevät muksuaamuun kympillä. Liput ovat Teho 2h rannekkeita.\nLippuja myydään vain Tahko Spa Hotellin vastaanoton tiskillä\, klo 10.00-11.30 välisenä aikana.
URL:https://www.hellokuopio.fi/tapahtuma/muksuaamu/2026-07-27/
LOCATION:SuperPark Tahko\, Keitaankatu 1\, Tahkovuori\, 73310
CATEGORIES:Lasten tapahtumat,Tahko
ATTACH;FMTTYPE=image/jpeg:https://www.hellokuopio.fi/app/uploads/2025/01/SuperPark-Tahko-Muksuaamut.jpg
GEO:63.2909907;28.0420862
X-APPLE-STRUCTURED-LOCATION;VALUE=URI;X-ADDRESS=SuperPark Tahko Keitaankatu 1 Tahkovuori 73310;X-APPLE-RADIUS=500;X-TITLE=Keitaankatu 1:geo:28.0420862,63.2909907
END:VEVENT
BEGIN:VEVENT
DTSTART;TZID=Europe/Helsinki:20260730T100000
DTEND;TZID=Europe/Helsinki:20260730T130000
DTSTAMP:20260423T034205
CREATED:20250807T061909Z
LAST-MODIFIED:20260413T094118Z
UID:10026479-1785405600-1785416400@www.hellokuopio.fi
SUMMARY:Muksuaamu
DESCRIPTION:Muksuaamu on SuperPark Tahkon sesonkiaikojen tarjous pienten lasten perheille. \nMuksuaamuna puistoon ovat tervetulleita kaiken ikäiset\, mutta hinnoittelussa suositaan alle kouluikäisten perheitä. Muksuaamu kestää 3 tuntia\, aamu alkaa klo 10 ja päättyy klo 13. \n\nMuksuaamun hinta on 19 € / alle kouluikäinen muksu + täysi-ikäinen huoltaja.\nLisämuksu tai toinen aikuinen pääsevät muksuaamuun kympillä. Liput ovat Teho 2h rannekkeita.\nLippuja myydään vain Tahko Spa Hotellin vastaanoton tiskillä\, klo 10.00-11.30 välisenä aikana.
URL:https://www.hellokuopio.fi/tapahtuma/muksuaamu/2026-07-30/
LOCATION:SuperPark Tahko\, Keitaankatu 1\, Tahkovuori\, 73310
CATEGORIES:Lasten tapahtumat,Tahko
ATTACH;FMTTYPE=image/jpeg:https://www.hellokuopio.fi/app/uploads/2025/01/SuperPark-Tahko-Muksuaamut.jpg
GEO:63.2909907;28.0420862
X-APPLE-STRUCTURED-LOCATION;VALUE=URI;X-ADDRESS=SuperPark Tahko Keitaankatu 1 Tahkovuori 73310;X-APPLE-RADIUS=500;X-TITLE=Keitaankatu 1:geo:28.0420862,63.2909907
END:VEVENT
BEGIN:VEVENT
DTSTART;TZID=Europe/Helsinki:20260803T100000
DTEND;TZID=Europe/Helsinki:20260803T130000
DTSTAMP:20260423T034205
CREATED:20250807T061909Z
LAST-MODIFIED:20260413T094118Z
UID:10026480-1785751200-1785762000@www.hellokuopio.fi
SUMMARY:Muksuaamu
DESCRIPTION:Muksuaamu on SuperPark Tahkon sesonkiaikojen tarjous pienten lasten perheille. \nMuksuaamuna puistoon ovat tervetulleita kaiken ikäiset\, mutta hinnoittelussa suositaan alle kouluikäisten perheitä. Muksuaamu kestää 3 tuntia\, aamu alkaa klo 10 ja päättyy klo 13. \n\nMuksuaamun hinta on 19 € / alle kouluikäinen muksu + täysi-ikäinen huoltaja.\nLisämuksu tai toinen aikuinen pääsevät muksuaamuun kympillä. Liput ovat Teho 2h rannekkeita.\nLippuja myydään vain Tahko Spa Hotellin vastaanoton tiskillä\, klo 10.00-11.30 välisenä aikana.
URL:https://www.hellokuopio.fi/tapahtuma/muksuaamu/2026-08-03/
LOCATION:SuperPark Tahko\, Keitaankatu 1\, Tahkovuori\, 73310
CATEGORIES:Lasten tapahtumat,Tahko
ATTACH;FMTTYPE=image/jpeg:https://www.hellokuopio.fi/app/uploads/2025/01/SuperPark-Tahko-Muksuaamut.jpg
GEO:63.2909907;28.0420862
X-APPLE-STRUCTURED-LOCATION;VALUE=URI;X-ADDRESS=SuperPark Tahko Keitaankatu 1 Tahkovuori 73310;X-APPLE-RADIUS=500;X-TITLE=Keitaankatu 1:geo:28.0420862,63.2909907
END:VEVENT
BEGIN:VEVENT
DTSTART;TZID=Europe/Helsinki:20260806T100000
DTEND;TZID=Europe/Helsinki:20260806T130000
DTSTAMP:20260423T034205
CREATED:20250807T061909Z
LAST-MODIFIED:20260413T094118Z
UID:10026481-1786010400-1786021200@www.hellokuopio.fi
SUMMARY:Muksuaamu
DESCRIPTION:Muksuaamu on SuperPark Tahkon sesonkiaikojen tarjous pienten lasten perheille. \nMuksuaamuna puistoon ovat tervetulleita kaiken ikäiset\, mutta hinnoittelussa suositaan alle kouluikäisten perheitä. Muksuaamu kestää 3 tuntia\, aamu alkaa klo 10 ja päättyy klo 13. \n\nMuksuaamun hinta on 19 € / alle kouluikäinen muksu + täysi-ikäinen huoltaja.\nLisämuksu tai toinen aikuinen pääsevät muksuaamuun kympillä. Liput ovat Teho 2h rannekkeita.\nLippuja myydään vain Tahko Spa Hotellin vastaanoton tiskillä\, klo 10.00-11.30 välisenä aikana.
URL:https://www.hellokuopio.fi/tapahtuma/muksuaamu/2026-08-06/
LOCATION:SuperPark Tahko\, Keitaankatu 1\, Tahkovuori\, 73310
CATEGORIES:Lasten tapahtumat,Tahko
ATTACH;FMTTYPE=image/jpeg:https://www.hellokuopio.fi/app/uploads/2025/01/SuperPark-Tahko-Muksuaamut.jpg
GEO:63.2909907;28.0420862
X-APPLE-STRUCTURED-LOCATION;VALUE=URI;X-ADDRESS=SuperPark Tahko Keitaankatu 1 Tahkovuori 73310;X-APPLE-RADIUS=500;X-TITLE=Keitaankatu 1:geo:28.0420862,63.2909907
END:VEVENT
BEGIN:VEVENT
DTSTART;TZID=Europe/Helsinki:20260810T100000
DTEND;TZID=Europe/Helsinki:20260810T130000
DTSTAMP:20260423T034205
CREATED:20250807T061909Z
LAST-MODIFIED:20260413T094118Z
UID:10026482-1786356000-1786366800@www.hellokuopio.fi
SUMMARY:Muksuaamu
DESCRIPTION:Muksuaamu on SuperPark Tahkon sesonkiaikojen tarjous pienten lasten perheille. \nMuksuaamuna puistoon ovat tervetulleita kaiken ikäiset\, mutta hinnoittelussa suositaan alle kouluikäisten perheitä. Muksuaamu kestää 3 tuntia\, aamu alkaa klo 10 ja päättyy klo 13. \n\nMuksuaamun hinta on 19 € / alle kouluikäinen muksu + täysi-ikäinen huoltaja.\nLisämuksu tai toinen aikuinen pääsevät muksuaamuun kympillä. Liput ovat Teho 2h rannekkeita.\nLippuja myydään vain Tahko Spa Hotellin vastaanoton tiskillä\, klo 10.00-11.30 välisenä aikana.
URL:https://www.hellokuopio.fi/tapahtuma/muksuaamu/2026-08-10/
LOCATION:SuperPark Tahko\, Keitaankatu 1\, Tahkovuori\, 73310
CATEGORIES:Lasten tapahtumat,Tahko
ATTACH;FMTTYPE=image/jpeg:https://www.hellokuopio.fi/app/uploads/2025/01/SuperPark-Tahko-Muksuaamut.jpg
GEO:63.2909907;28.0420862
X-APPLE-STRUCTURED-LOCATION;VALUE=URI;X-ADDRESS=SuperPark Tahko Keitaankatu 1 Tahkovuori 73310;X-APPLE-RADIUS=500;X-TITLE=Keitaankatu 1:geo:28.0420862,63.2909907
END:VEVENT
END:VCALENDAR