BEGIN:VCALENDAR
VERSION:2.0
PRODID:-//Hello Kuopio - ECPv6.15.17.1//NONSGML v1.0//EN
CALSCALE:GREGORIAN
METHOD:PUBLISH
X-WR-CALNAME:Hello Kuopio
X-ORIGINAL-URL:https://www.hellokuopio.fi
X-WR-CALDESC:Tapahtumat Hello Kuopio
REFRESH-INTERVAL;VALUE=DURATION:PT1H
X-Robots-Tag:noindex
X-PUBLISHED-TTL:PT1H
BEGIN:VTIMEZONE
TZID:Europe/Helsinki
BEGIN:DAYLIGHT
TZOFFSETFROM:+0200
TZOFFSETTO:+0300
TZNAME:EEST
DTSTART:20250330T010000
END:DAYLIGHT
BEGIN:STANDARD
TZOFFSETFROM:+0300
TZOFFSETTO:+0200
TZNAME:EET
DTSTART:20251026T010000
END:STANDARD
BEGIN:DAYLIGHT
TZOFFSETFROM:+0200
TZOFFSETTO:+0300
TZNAME:EEST
DTSTART:20260329T010000
END:DAYLIGHT
BEGIN:STANDARD
TZOFFSETFROM:+0300
TZOFFSETTO:+0200
TZNAME:EET
DTSTART:20261025T010000
END:STANDARD
BEGIN:DAYLIGHT
TZOFFSETFROM:+0200
TZOFFSETTO:+0300
TZNAME:EEST
DTSTART:20270328T010000
END:DAYLIGHT
BEGIN:STANDARD
TZOFFSETFROM:+0300
TZOFFSETTO:+0200
TZNAME:EET
DTSTART:20271031T010000
END:STANDARD
END:VTIMEZONE
BEGIN:VEVENT
DTSTART;TZID=Europe/Helsinki:20260502T180000
DTEND;TZID=Europe/Helsinki:20260502T180000
DTSTAMP:20260425T162613
CREATED:20250811T094507Z
LAST-MODIFIED:20260425T131512Z
UID:10024402-1777744800-1777744800@www.hellokuopio.fi
SUMMARY:Idän Pikajunan Arvoitus
DESCRIPTION:Legendaarinen murhamysteeri Kuopion kaupunginteatterissa syyskaudella 2025. \nLuksusjuna kiitää halki lumisen maiseman\, mutta idyllinen matka muuttuu painajaiseksi\, kun yksi matkustajista löytyy murhattuna. Kuka junan matkustajista on syyllinen? \nKun myrsky pysäyttää junan keskelle erämaata\, vain yksi mies voi selvittää totuuden ennen kuin murhaaja iskee uudelleen – maailmankuulu Hercule Poirot. Tiivistunnelmainen draama\, älykäs juonenkuljetus ja yllättävät käänteet pitävät katsojan otteessaan loppuun asti. \nAgatha Christien mestariteokseen perustuva näytelmä tuo näyttämölle kaikkien aikojen legendaarisimman murhamysteerin. \nOletko tarpeeksi nokkela ratkaistaksesi arvoituksen ennen kuin Poirot sen paljastaa? Varaa lippusi nyt – jännitysmatka voi alkaa! \nLiput\n\n43 € peruslippu\n39 € eläkeläiset\, opiskelijat\, työttömät\, varushenkilöt\, lapset (alle 16-vuotiaat)\n35 € ryhmät (väh. 20 hlö)\, pyörätuolit. Pyörätuolilippuun sisältyy avustajapaikka. Muut avustajapaikat varattava erikseen.\nHinnat sisältävät teatterin palvelumaksun 3\,50 € / lippu. Palvelumaksut vaihtelevat ostopaikasta riippuen.\nOsta liput>>
URL:https://www.hellokuopio.fi/tapahtuma/idan-pikajunan-arvoitus/2026-05-02/
LOCATION:Kuopion Kaupunginteatteri\, Niiralankatu 2\, Kuopio\, 70600\, Suomi
CATEGORIES:Kulttuuritapahtumat
ATTACH;FMTTYPE=image/jpeg:https://www.hellokuopio.fi/app/uploads/2026/04/idan-pikajunan-arvoitus-image_1.jpg
GEO:62.8926499;27.6644164
X-APPLE-STRUCTURED-LOCATION;VALUE=URI;X-ADDRESS=Kuopion Kaupunginteatteri Niiralankatu 2 Kuopio 70600 Suomi;X-APPLE-RADIUS=500;X-TITLE=Niiralankatu 2:geo:27.6644164,62.8926499
END:VEVENT
BEGIN:VEVENT
DTSTART;TZID=Europe/Helsinki:20260509T130000
DTEND;TZID=Europe/Helsinki:20260509T130000
DTSTAMP:20260425T162613
CREATED:20250811T094507Z
LAST-MODIFIED:20260425T131512Z
UID:10024403-1778331600-1778331600@www.hellokuopio.fi
SUMMARY:Idän Pikajunan Arvoitus
DESCRIPTION:Legendaarinen murhamysteeri Kuopion kaupunginteatterissa syyskaudella 2025. \nLuksusjuna kiitää halki lumisen maiseman\, mutta idyllinen matka muuttuu painajaiseksi\, kun yksi matkustajista löytyy murhattuna. Kuka junan matkustajista on syyllinen? \nKun myrsky pysäyttää junan keskelle erämaata\, vain yksi mies voi selvittää totuuden ennen kuin murhaaja iskee uudelleen – maailmankuulu Hercule Poirot. Tiivistunnelmainen draama\, älykäs juonenkuljetus ja yllättävät käänteet pitävät katsojan otteessaan loppuun asti. \nAgatha Christien mestariteokseen perustuva näytelmä tuo näyttämölle kaikkien aikojen legendaarisimman murhamysteerin. \nOletko tarpeeksi nokkela ratkaistaksesi arvoituksen ennen kuin Poirot sen paljastaa? Varaa lippusi nyt – jännitysmatka voi alkaa! \nLiput\n\n43 € peruslippu\n39 € eläkeläiset\, opiskelijat\, työttömät\, varushenkilöt\, lapset (alle 16-vuotiaat)\n35 € ryhmät (väh. 20 hlö)\, pyörätuolit. Pyörätuolilippuun sisältyy avustajapaikka. Muut avustajapaikat varattava erikseen.\nHinnat sisältävät teatterin palvelumaksun 3\,50 € / lippu. Palvelumaksut vaihtelevat ostopaikasta riippuen.\nOsta liput>>
URL:https://www.hellokuopio.fi/tapahtuma/idan-pikajunan-arvoitus/2026-05-09/1/
LOCATION:Kuopion Kaupunginteatteri\, Niiralankatu 2\, Kuopio\, 70600\, Suomi
CATEGORIES:Kulttuuritapahtumat
ATTACH;FMTTYPE=image/jpeg:https://www.hellokuopio.fi/app/uploads/2026/04/idan-pikajunan-arvoitus-image_1.jpg
GEO:62.8926499;27.6644164
X-APPLE-STRUCTURED-LOCATION;VALUE=URI;X-ADDRESS=Kuopion Kaupunginteatteri Niiralankatu 2 Kuopio 70600 Suomi;X-APPLE-RADIUS=500;X-TITLE=Niiralankatu 2:geo:27.6644164,62.8926499
END:VEVENT
BEGIN:VEVENT
DTSTART;TZID=Europe/Helsinki:20260509T180000
DTEND;TZID=Europe/Helsinki:20260509T180000
DTSTAMP:20260425T162613
CREATED:20250811T094507Z
LAST-MODIFIED:20260425T131512Z
UID:10024404-1778349600-1778349600@www.hellokuopio.fi
SUMMARY:Idän Pikajunan Arvoitus
DESCRIPTION:Legendaarinen murhamysteeri Kuopion kaupunginteatterissa syyskaudella 2025. \nLuksusjuna kiitää halki lumisen maiseman\, mutta idyllinen matka muuttuu painajaiseksi\, kun yksi matkustajista löytyy murhattuna. Kuka junan matkustajista on syyllinen? \nKun myrsky pysäyttää junan keskelle erämaata\, vain yksi mies voi selvittää totuuden ennen kuin murhaaja iskee uudelleen – maailmankuulu Hercule Poirot. Tiivistunnelmainen draama\, älykäs juonenkuljetus ja yllättävät käänteet pitävät katsojan otteessaan loppuun asti. \nAgatha Christien mestariteokseen perustuva näytelmä tuo näyttämölle kaikkien aikojen legendaarisimman murhamysteerin. \nOletko tarpeeksi nokkela ratkaistaksesi arvoituksen ennen kuin Poirot sen paljastaa? Varaa lippusi nyt – jännitysmatka voi alkaa! \nLiput\n\n43 € peruslippu\n39 € eläkeläiset\, opiskelijat\, työttömät\, varushenkilöt\, lapset (alle 16-vuotiaat)\n35 € ryhmät (väh. 20 hlö)\, pyörätuolit. Pyörätuolilippuun sisältyy avustajapaikka. Muut avustajapaikat varattava erikseen.\nHinnat sisältävät teatterin palvelumaksun 3\,50 € / lippu. Palvelumaksut vaihtelevat ostopaikasta riippuen.\nOsta liput>>
URL:https://www.hellokuopio.fi/tapahtuma/idan-pikajunan-arvoitus/2026-05-09/2/
LOCATION:Kuopion Kaupunginteatteri\, Niiralankatu 2\, Kuopio\, 70600\, Suomi
CATEGORIES:Kulttuuritapahtumat
ATTACH;FMTTYPE=image/jpeg:https://www.hellokuopio.fi/app/uploads/2026/04/idan-pikajunan-arvoitus-image_1.jpg
GEO:62.8926499;27.6644164
X-APPLE-STRUCTURED-LOCATION;VALUE=URI;X-ADDRESS=Kuopion Kaupunginteatteri Niiralankatu 2 Kuopio 70600 Suomi;X-APPLE-RADIUS=500;X-TITLE=Niiralankatu 2:geo:27.6644164,62.8926499
END:VEVENT
BEGIN:VEVENT
DTSTART;TZID=Europe/Helsinki:20260513T183000
DTEND;TZID=Europe/Helsinki:20260513T183000
DTSTAMP:20260425T162613
CREATED:20250811T094507Z
LAST-MODIFIED:20260425T131512Z
UID:10024405-1778697000-1778697000@www.hellokuopio.fi
SUMMARY:Idän Pikajunan Arvoitus
DESCRIPTION:Legendaarinen murhamysteeri Kuopion kaupunginteatterissa syyskaudella 2025. \nLuksusjuna kiitää halki lumisen maiseman\, mutta idyllinen matka muuttuu painajaiseksi\, kun yksi matkustajista löytyy murhattuna. Kuka junan matkustajista on syyllinen? \nKun myrsky pysäyttää junan keskelle erämaata\, vain yksi mies voi selvittää totuuden ennen kuin murhaaja iskee uudelleen – maailmankuulu Hercule Poirot. Tiivistunnelmainen draama\, älykäs juonenkuljetus ja yllättävät käänteet pitävät katsojan otteessaan loppuun asti. \nAgatha Christien mestariteokseen perustuva näytelmä tuo näyttämölle kaikkien aikojen legendaarisimman murhamysteerin. \nOletko tarpeeksi nokkela ratkaistaksesi arvoituksen ennen kuin Poirot sen paljastaa? Varaa lippusi nyt – jännitysmatka voi alkaa! \nLiput\n\n43 € peruslippu\n39 € eläkeläiset\, opiskelijat\, työttömät\, varushenkilöt\, lapset (alle 16-vuotiaat)\n35 € ryhmät (väh. 20 hlö)\, pyörätuolit. Pyörätuolilippuun sisältyy avustajapaikka. Muut avustajapaikat varattava erikseen.\nHinnat sisältävät teatterin palvelumaksun 3\,50 € / lippu. Palvelumaksut vaihtelevat ostopaikasta riippuen.\nOsta liput>>
URL:https://www.hellokuopio.fi/tapahtuma/idan-pikajunan-arvoitus/2026-05-13/
LOCATION:Kuopion Kaupunginteatteri\, Niiralankatu 2\, Kuopio\, 70600\, Suomi
CATEGORIES:Kulttuuritapahtumat
ATTACH;FMTTYPE=image/jpeg:https://www.hellokuopio.fi/app/uploads/2026/04/idan-pikajunan-arvoitus-image_1.jpg
GEO:62.8926499;27.6644164
X-APPLE-STRUCTURED-LOCATION;VALUE=URI;X-ADDRESS=Kuopion Kaupunginteatteri Niiralankatu 2 Kuopio 70600 Suomi;X-APPLE-RADIUS=500;X-TITLE=Niiralankatu 2:geo:27.6644164,62.8926499
END:VEVENT
BEGIN:VEVENT
DTSTART;TZID=Europe/Helsinki:20260515T183000
DTEND;TZID=Europe/Helsinki:20260515T183000
DTSTAMP:20260425T162614
CREATED:20250811T094507Z
LAST-MODIFIED:20260425T131512Z
UID:10024406-1778869800-1778869800@www.hellokuopio.fi
SUMMARY:Idän Pikajunan Arvoitus
DESCRIPTION:Legendaarinen murhamysteeri Kuopion kaupunginteatterissa syyskaudella 2025. \nLuksusjuna kiitää halki lumisen maiseman\, mutta idyllinen matka muuttuu painajaiseksi\, kun yksi matkustajista löytyy murhattuna. Kuka junan matkustajista on syyllinen? \nKun myrsky pysäyttää junan keskelle erämaata\, vain yksi mies voi selvittää totuuden ennen kuin murhaaja iskee uudelleen – maailmankuulu Hercule Poirot. Tiivistunnelmainen draama\, älykäs juonenkuljetus ja yllättävät käänteet pitävät katsojan otteessaan loppuun asti. \nAgatha Christien mestariteokseen perustuva näytelmä tuo näyttämölle kaikkien aikojen legendaarisimman murhamysteerin. \nOletko tarpeeksi nokkela ratkaistaksesi arvoituksen ennen kuin Poirot sen paljastaa? Varaa lippusi nyt – jännitysmatka voi alkaa! \nLiput\n\n43 € peruslippu\n39 € eläkeläiset\, opiskelijat\, työttömät\, varushenkilöt\, lapset (alle 16-vuotiaat)\n35 € ryhmät (väh. 20 hlö)\, pyörätuolit. Pyörätuolilippuun sisältyy avustajapaikka. Muut avustajapaikat varattava erikseen.\nHinnat sisältävät teatterin palvelumaksun 3\,50 € / lippu. Palvelumaksut vaihtelevat ostopaikasta riippuen.\nOsta liput>>
URL:https://www.hellokuopio.fi/tapahtuma/idan-pikajunan-arvoitus/2026-05-15/
LOCATION:Kuopion Kaupunginteatteri\, Niiralankatu 2\, Kuopio\, 70600\, Suomi
CATEGORIES:Kulttuuritapahtumat
ATTACH;FMTTYPE=image/jpeg:https://www.hellokuopio.fi/app/uploads/2026/04/idan-pikajunan-arvoitus-image_1.jpg
GEO:62.8926499;27.6644164
X-APPLE-STRUCTURED-LOCATION;VALUE=URI;X-ADDRESS=Kuopion Kaupunginteatteri Niiralankatu 2 Kuopio 70600 Suomi;X-APPLE-RADIUS=500;X-TITLE=Niiralankatu 2:geo:27.6644164,62.8926499
END:VEVENT
BEGIN:VEVENT
DTSTART;TZID=Europe/Helsinki:20260516T130000
DTEND;TZID=Europe/Helsinki:20260516T130000
DTSTAMP:20260425T162614
CREATED:20250811T094507Z
LAST-MODIFIED:20260425T131512Z
UID:10024407-1778936400-1778936400@www.hellokuopio.fi
SUMMARY:Idän Pikajunan Arvoitus
DESCRIPTION:Legendaarinen murhamysteeri Kuopion kaupunginteatterissa syyskaudella 2025. \nLuksusjuna kiitää halki lumisen maiseman\, mutta idyllinen matka muuttuu painajaiseksi\, kun yksi matkustajista löytyy murhattuna. Kuka junan matkustajista on syyllinen? \nKun myrsky pysäyttää junan keskelle erämaata\, vain yksi mies voi selvittää totuuden ennen kuin murhaaja iskee uudelleen – maailmankuulu Hercule Poirot. Tiivistunnelmainen draama\, älykäs juonenkuljetus ja yllättävät käänteet pitävät katsojan otteessaan loppuun asti. \nAgatha Christien mestariteokseen perustuva näytelmä tuo näyttämölle kaikkien aikojen legendaarisimman murhamysteerin. \nOletko tarpeeksi nokkela ratkaistaksesi arvoituksen ennen kuin Poirot sen paljastaa? Varaa lippusi nyt – jännitysmatka voi alkaa! \nLiput\n\n43 € peruslippu\n39 € eläkeläiset\, opiskelijat\, työttömät\, varushenkilöt\, lapset (alle 16-vuotiaat)\n35 € ryhmät (väh. 20 hlö)\, pyörätuolit. Pyörätuolilippuun sisältyy avustajapaikka. Muut avustajapaikat varattava erikseen.\nHinnat sisältävät teatterin palvelumaksun 3\,50 € / lippu. Palvelumaksut vaihtelevat ostopaikasta riippuen.\nOsta liput>>
URL:https://www.hellokuopio.fi/tapahtuma/idan-pikajunan-arvoitus/2026-05-16/
LOCATION:Kuopion Kaupunginteatteri\, Niiralankatu 2\, Kuopio\, 70600\, Suomi
CATEGORIES:Kulttuuritapahtumat
ATTACH;FMTTYPE=image/jpeg:https://www.hellokuopio.fi/app/uploads/2026/04/idan-pikajunan-arvoitus-image_1.jpg
GEO:62.8926499;27.6644164
X-APPLE-STRUCTURED-LOCATION;VALUE=URI;X-ADDRESS=Kuopion Kaupunginteatteri Niiralankatu 2 Kuopio 70600 Suomi;X-APPLE-RADIUS=500;X-TITLE=Niiralankatu 2:geo:27.6644164,62.8926499
END:VEVENT
END:VCALENDAR