BEGIN:VCALENDAR
VERSION:2.0
PRODID:-//Hello Kuopio - ECPv6.15.17.1//NONSGML v1.0//EN
CALSCALE:GREGORIAN
METHOD:PUBLISH
X-WR-CALNAME:Hello Kuopio
X-ORIGINAL-URL:https://www.hellokuopio.fi
X-WR-CALDESC:Tapahtumat Hello Kuopio
REFRESH-INTERVAL;VALUE=DURATION:PT1H
X-Robots-Tag:noindex
X-PUBLISHED-TTL:PT1H
BEGIN:VTIMEZONE
TZID:Europe/Helsinki
BEGIN:DAYLIGHT
TZOFFSETFROM:+0200
TZOFFSETTO:+0300
TZNAME:EEST
DTSTART:20250330T010000
END:DAYLIGHT
BEGIN:STANDARD
TZOFFSETFROM:+0300
TZOFFSETTO:+0200
TZNAME:EET
DTSTART:20251026T010000
END:STANDARD
BEGIN:DAYLIGHT
TZOFFSETFROM:+0200
TZOFFSETTO:+0300
TZNAME:EEST
DTSTART:20260329T010000
END:DAYLIGHT
BEGIN:STANDARD
TZOFFSETFROM:+0300
TZOFFSETTO:+0200
TZNAME:EET
DTSTART:20261025T010000
END:STANDARD
BEGIN:DAYLIGHT
TZOFFSETFROM:+0200
TZOFFSETTO:+0300
TZNAME:EEST
DTSTART:20270328T010000
END:DAYLIGHT
BEGIN:STANDARD
TZOFFSETFROM:+0300
TZOFFSETTO:+0200
TZNAME:EET
DTSTART:20271031T010000
END:STANDARD
END:VTIMEZONE
BEGIN:VEVENT
DTSTART;TZID=Europe/Helsinki:20260423T180000
DTEND;TZID=Europe/Helsinki:20260423T180000
DTSTAMP:20260422T144245
CREATED:20260115T113010Z
LAST-MODIFIED:20260420T094529Z
UID:10024563-1776967200-1776967200@www.hellokuopio.fi
SUMMARY:Baaripähkinä -tietovisa
DESCRIPTION:Viikottain järjestettävä visailu pitää sisällään 30 monipuolista kysymystä eri aihealueista ja vaikeusasteista. \nOsallistuminen on ilmaista ja jokaisella visalla palkitaan sijat: 1 & 2 ja lisäksi kaikkien osallistuneiden kesken arvotaan Lucky Loser -palkinto.
URL:https://www.hellokuopio.fi/tapahtuma/baaripahkina-tietovisa/2026-04-23/
LOCATION:Bar Fr33tim3\, Ajurinkatu 16\, Kuopio\, 70110
CATEGORIES:Kulttuuritapahtumat
ATTACH;FMTTYPE=image/jpeg:https://www.hellokuopio.fi/app/uploads/2026/04/baaripahkina-tietovisa-image_1.jpg
END:VEVENT
BEGIN:VEVENT
DTSTART;TZID=Europe/Helsinki:20260430T180000
DTEND;TZID=Europe/Helsinki:20260430T180000
DTSTAMP:20260422T144245
CREATED:20260115T113010Z
LAST-MODIFIED:20260420T094529Z
UID:10024564-1777572000-1777572000@www.hellokuopio.fi
SUMMARY:Baaripähkinä -tietovisa
DESCRIPTION:Viikottain järjestettävä visailu pitää sisällään 30 monipuolista kysymystä eri aihealueista ja vaikeusasteista. \nOsallistuminen on ilmaista ja jokaisella visalla palkitaan sijat: 1 & 2 ja lisäksi kaikkien osallistuneiden kesken arvotaan Lucky Loser -palkinto.
URL:https://www.hellokuopio.fi/tapahtuma/baaripahkina-tietovisa/2026-04-30/
LOCATION:Bar Fr33tim3\, Ajurinkatu 16\, Kuopio\, 70110
CATEGORIES:Kulttuuritapahtumat
ATTACH;FMTTYPE=image/jpeg:https://www.hellokuopio.fi/app/uploads/2026/04/baaripahkina-tietovisa-image_1.jpg
END:VEVENT
BEGIN:VEVENT
DTSTART;TZID=Europe/Helsinki:20260507T180000
DTEND;TZID=Europe/Helsinki:20260507T180000
DTSTAMP:20260422T144245
CREATED:20260115T113010Z
LAST-MODIFIED:20260420T094529Z
UID:10024565-1778176800-1778176800@www.hellokuopio.fi
SUMMARY:Baaripähkinä -tietovisa
DESCRIPTION:Viikottain järjestettävä visailu pitää sisällään 30 monipuolista kysymystä eri aihealueista ja vaikeusasteista. \nOsallistuminen on ilmaista ja jokaisella visalla palkitaan sijat: 1 & 2 ja lisäksi kaikkien osallistuneiden kesken arvotaan Lucky Loser -palkinto.
URL:https://www.hellokuopio.fi/tapahtuma/baaripahkina-tietovisa/2026-05-07/
LOCATION:Bar Fr33tim3\, Ajurinkatu 16\, Kuopio\, 70110
CATEGORIES:Kulttuuritapahtumat
ATTACH;FMTTYPE=image/jpeg:https://www.hellokuopio.fi/app/uploads/2026/04/baaripahkina-tietovisa-image_1.jpg
END:VEVENT
BEGIN:VEVENT
DTSTART;TZID=Europe/Helsinki:20260514T180000
DTEND;TZID=Europe/Helsinki:20260514T180000
DTSTAMP:20260422T144245
CREATED:20260115T113010Z
LAST-MODIFIED:20260420T094529Z
UID:10024566-1778781600-1778781600@www.hellokuopio.fi
SUMMARY:Baaripähkinä -tietovisa
DESCRIPTION:Viikottain järjestettävä visailu pitää sisällään 30 monipuolista kysymystä eri aihealueista ja vaikeusasteista. \nOsallistuminen on ilmaista ja jokaisella visalla palkitaan sijat: 1 & 2 ja lisäksi kaikkien osallistuneiden kesken arvotaan Lucky Loser -palkinto.
URL:https://www.hellokuopio.fi/tapahtuma/baaripahkina-tietovisa/2026-05-14/
LOCATION:Bar Fr33tim3\, Ajurinkatu 16\, Kuopio\, 70110
CATEGORIES:Kulttuuritapahtumat
ATTACH;FMTTYPE=image/jpeg:https://www.hellokuopio.fi/app/uploads/2026/04/baaripahkina-tietovisa-image_1.jpg
END:VEVENT
BEGIN:VEVENT
DTSTART;TZID=Europe/Helsinki:20260521T180000
DTEND;TZID=Europe/Helsinki:20260521T180000
DTSTAMP:20260422T144245
CREATED:20260115T113010Z
LAST-MODIFIED:20260420T094529Z
UID:10024567-1779386400-1779386400@www.hellokuopio.fi
SUMMARY:Baaripähkinä -tietovisa
DESCRIPTION:Viikottain järjestettävä visailu pitää sisällään 30 monipuolista kysymystä eri aihealueista ja vaikeusasteista. \nOsallistuminen on ilmaista ja jokaisella visalla palkitaan sijat: 1 & 2 ja lisäksi kaikkien osallistuneiden kesken arvotaan Lucky Loser -palkinto.
URL:https://www.hellokuopio.fi/tapahtuma/baaripahkina-tietovisa/2026-05-21/
LOCATION:Bar Fr33tim3\, Ajurinkatu 16\, Kuopio\, 70110
CATEGORIES:Kulttuuritapahtumat
ATTACH;FMTTYPE=image/jpeg:https://www.hellokuopio.fi/app/uploads/2026/04/baaripahkina-tietovisa-image_1.jpg
END:VEVENT
BEGIN:VEVENT
DTSTART;TZID=Europe/Helsinki:20260528T180000
DTEND;TZID=Europe/Helsinki:20260528T180000
DTSTAMP:20260422T144245
CREATED:20260115T113010Z
LAST-MODIFIED:20260420T094529Z
UID:10024568-1779991200-1779991200@www.hellokuopio.fi
SUMMARY:Baaripähkinä -tietovisa
DESCRIPTION:Viikottain järjestettävä visailu pitää sisällään 30 monipuolista kysymystä eri aihealueista ja vaikeusasteista. \nOsallistuminen on ilmaista ja jokaisella visalla palkitaan sijat: 1 & 2 ja lisäksi kaikkien osallistuneiden kesken arvotaan Lucky Loser -palkinto.
URL:https://www.hellokuopio.fi/tapahtuma/baaripahkina-tietovisa/2026-05-28/
LOCATION:Bar Fr33tim3\, Ajurinkatu 16\, Kuopio\, 70110
CATEGORIES:Kulttuuritapahtumat
ATTACH;FMTTYPE=image/jpeg:https://www.hellokuopio.fi/app/uploads/2026/04/baaripahkina-tietovisa-image_1.jpg
END:VEVENT
END:VCALENDAR