BEGIN:VCALENDAR
VERSION:2.0
PRODID:-//Hello Kuopio - ECPv6.15.17.1//NONSGML v1.0//EN
CALSCALE:GREGORIAN
METHOD:PUBLISH
X-WR-CALNAME:Hello Kuopio
X-ORIGINAL-URL:https://www.hellokuopio.fi
X-WR-CALDESC:Tapahtumat Hello Kuopio
REFRESH-INTERVAL;VALUE=DURATION:PT1H
X-Robots-Tag:noindex
X-PUBLISHED-TTL:PT1H
BEGIN:VTIMEZONE
TZID:Europe/Helsinki
BEGIN:DAYLIGHT
TZOFFSETFROM:+0200
TZOFFSETTO:+0300
TZNAME:EEST
DTSTART:20250330T010000
END:DAYLIGHT
BEGIN:STANDARD
TZOFFSETFROM:+0300
TZOFFSETTO:+0200
TZNAME:EET
DTSTART:20251026T010000
END:STANDARD
BEGIN:DAYLIGHT
TZOFFSETFROM:+0200
TZOFFSETTO:+0300
TZNAME:EEST
DTSTART:20260329T010000
END:DAYLIGHT
BEGIN:STANDARD
TZOFFSETFROM:+0300
TZOFFSETTO:+0200
TZNAME:EET
DTSTART:20261025T010000
END:STANDARD
BEGIN:DAYLIGHT
TZOFFSETFROM:+0200
TZOFFSETTO:+0300
TZNAME:EEST
DTSTART:20270328T010000
END:DAYLIGHT
BEGIN:STANDARD
TZOFFSETFROM:+0300
TZOFFSETTO:+0200
TZNAME:EET
DTSTART:20271031T010000
END:STANDARD
END:VTIMEZONE
BEGIN:VEVENT
DTSTART;TZID=Europe/Helsinki:20260426T180000
DTEND;TZID=Europe/Helsinki:20260426T180000
DTSTAMP:20260422T173058
CREATED:20260115T114508Z
LAST-MODIFIED:20260420T094527Z
UID:10024825-1777226400-1777226400@www.hellokuopio.fi
SUMMARY:Baaripähkinä -viihdevisa
DESCRIPTION:Viikottain järjestettävä visailu pitää sisällään 30 monipuolista kysymystä eri aihealueista ja vaikeusasteista. \nOsallistuminen on ilmaista ja jokaisella visalla palkitaan sijat: 1 & 2 ja lisäksi kaikkien osallistuneiden kesken arvotaan Lucky Loser -palkinto\, tervetuloa!
URL:https://www.hellokuopio.fi/tapahtuma/baaripahkina-viihdevisa/2026-04-26/
LOCATION:Bar Fr33tim3\, Ajurinkatu 16\, Kuopio\, 70110
CATEGORIES:Kulttuuritapahtumat
ATTACH;FMTTYPE=image/jpeg:https://www.hellokuopio.fi/app/uploads/2026/04/baaripahkina-viihdevisa-image_1.jpg
END:VEVENT
BEGIN:VEVENT
DTSTART;TZID=Europe/Helsinki:20260503T180000
DTEND;TZID=Europe/Helsinki:20260503T180000
DTSTAMP:20260422T173058
CREATED:20260115T114508Z
LAST-MODIFIED:20260420T094527Z
UID:10024826-1777831200-1777831200@www.hellokuopio.fi
SUMMARY:Baaripähkinä -viihdevisa
DESCRIPTION:Viikottain järjestettävä visailu pitää sisällään 30 monipuolista kysymystä eri aihealueista ja vaikeusasteista. \nOsallistuminen on ilmaista ja jokaisella visalla palkitaan sijat: 1 & 2 ja lisäksi kaikkien osallistuneiden kesken arvotaan Lucky Loser -palkinto\, tervetuloa!
URL:https://www.hellokuopio.fi/tapahtuma/baaripahkina-viihdevisa/2026-05-03/
LOCATION:Bar Fr33tim3\, Ajurinkatu 16\, Kuopio\, 70110
CATEGORIES:Kulttuuritapahtumat
ATTACH;FMTTYPE=image/jpeg:https://www.hellokuopio.fi/app/uploads/2026/04/baaripahkina-viihdevisa-image_1.jpg
END:VEVENT
BEGIN:VEVENT
DTSTART;TZID=Europe/Helsinki:20260510T180000
DTEND;TZID=Europe/Helsinki:20260510T180000
DTSTAMP:20260422T173058
CREATED:20260115T114508Z
LAST-MODIFIED:20260420T094527Z
UID:10024827-1778436000-1778436000@www.hellokuopio.fi
SUMMARY:Baaripähkinä -viihdevisa
DESCRIPTION:Viikottain järjestettävä visailu pitää sisällään 30 monipuolista kysymystä eri aihealueista ja vaikeusasteista. \nOsallistuminen on ilmaista ja jokaisella visalla palkitaan sijat: 1 & 2 ja lisäksi kaikkien osallistuneiden kesken arvotaan Lucky Loser -palkinto\, tervetuloa!
URL:https://www.hellokuopio.fi/tapahtuma/baaripahkina-viihdevisa/2026-05-10/
LOCATION:Bar Fr33tim3\, Ajurinkatu 16\, Kuopio\, 70110
CATEGORIES:Kulttuuritapahtumat
ATTACH;FMTTYPE=image/jpeg:https://www.hellokuopio.fi/app/uploads/2026/04/baaripahkina-viihdevisa-image_1.jpg
END:VEVENT
BEGIN:VEVENT
DTSTART;TZID=Europe/Helsinki:20260517T180000
DTEND;TZID=Europe/Helsinki:20260517T180000
DTSTAMP:20260422T173058
CREATED:20260115T114508Z
LAST-MODIFIED:20260420T094527Z
UID:10024828-1779040800-1779040800@www.hellokuopio.fi
SUMMARY:Baaripähkinä -viihdevisa
DESCRIPTION:Viikottain järjestettävä visailu pitää sisällään 30 monipuolista kysymystä eri aihealueista ja vaikeusasteista. \nOsallistuminen on ilmaista ja jokaisella visalla palkitaan sijat: 1 & 2 ja lisäksi kaikkien osallistuneiden kesken arvotaan Lucky Loser -palkinto\, tervetuloa!
URL:https://www.hellokuopio.fi/tapahtuma/baaripahkina-viihdevisa/2026-05-17/
LOCATION:Bar Fr33tim3\, Ajurinkatu 16\, Kuopio\, 70110
CATEGORIES:Kulttuuritapahtumat
ATTACH;FMTTYPE=image/jpeg:https://www.hellokuopio.fi/app/uploads/2026/04/baaripahkina-viihdevisa-image_1.jpg
END:VEVENT
BEGIN:VEVENT
DTSTART;TZID=Europe/Helsinki:20260524T180000
DTEND;TZID=Europe/Helsinki:20260524T180000
DTSTAMP:20260422T173058
CREATED:20260115T114508Z
LAST-MODIFIED:20260420T094527Z
UID:10024829-1779645600-1779645600@www.hellokuopio.fi
SUMMARY:Baaripähkinä -viihdevisa
DESCRIPTION:Viikottain järjestettävä visailu pitää sisällään 30 monipuolista kysymystä eri aihealueista ja vaikeusasteista. \nOsallistuminen on ilmaista ja jokaisella visalla palkitaan sijat: 1 & 2 ja lisäksi kaikkien osallistuneiden kesken arvotaan Lucky Loser -palkinto\, tervetuloa!
URL:https://www.hellokuopio.fi/tapahtuma/baaripahkina-viihdevisa/2026-05-24/
LOCATION:Bar Fr33tim3\, Ajurinkatu 16\, Kuopio\, 70110
CATEGORIES:Kulttuuritapahtumat
ATTACH;FMTTYPE=image/jpeg:https://www.hellokuopio.fi/app/uploads/2026/04/baaripahkina-viihdevisa-image_1.jpg
END:VEVENT
BEGIN:VEVENT
DTSTART;TZID=Europe/Helsinki:20260531T180000
DTEND;TZID=Europe/Helsinki:20260531T180000
DTSTAMP:20260422T173058
CREATED:20260115T114508Z
LAST-MODIFIED:20260420T094527Z
UID:10024830-1780250400-1780250400@www.hellokuopio.fi
SUMMARY:Baaripähkinä -viihdevisa
DESCRIPTION:Viikottain järjestettävä visailu pitää sisällään 30 monipuolista kysymystä eri aihealueista ja vaikeusasteista. \nOsallistuminen on ilmaista ja jokaisella visalla palkitaan sijat: 1 & 2 ja lisäksi kaikkien osallistuneiden kesken arvotaan Lucky Loser -palkinto\, tervetuloa!
URL:https://www.hellokuopio.fi/tapahtuma/baaripahkina-viihdevisa/2026-05-31/
LOCATION:Bar Fr33tim3\, Ajurinkatu 16\, Kuopio\, 70110
CATEGORIES:Kulttuuritapahtumat
ATTACH;FMTTYPE=image/jpeg:https://www.hellokuopio.fi/app/uploads/2026/04/baaripahkina-viihdevisa-image_1.jpg
END:VEVENT
END:VCALENDAR