BEGIN:VCALENDAR
VERSION:2.0
PRODID:-//Hello Kuopio - ECPv6.15.17.1//NONSGML v1.0//EN
CALSCALE:GREGORIAN
METHOD:PUBLISH
X-WR-CALNAME:Hello Kuopio
X-ORIGINAL-URL:https://www.hellokuopio.fi
X-WR-CALDESC:Tapahtumat Hello Kuopio
REFRESH-INTERVAL;VALUE=DURATION:PT1H
X-Robots-Tag:noindex
X-PUBLISHED-TTL:PT1H
BEGIN:VTIMEZONE
TZID:Europe/Helsinki
BEGIN:DAYLIGHT
TZOFFSETFROM:+0200
TZOFFSETTO:+0300
TZNAME:EEST
DTSTART:20250330T010000
END:DAYLIGHT
BEGIN:STANDARD
TZOFFSETFROM:+0300
TZOFFSETTO:+0200
TZNAME:EET
DTSTART:20251026T010000
END:STANDARD
BEGIN:DAYLIGHT
TZOFFSETFROM:+0200
TZOFFSETTO:+0300
TZNAME:EEST
DTSTART:20260329T010000
END:DAYLIGHT
BEGIN:STANDARD
TZOFFSETFROM:+0300
TZOFFSETTO:+0200
TZNAME:EET
DTSTART:20261025T010000
END:STANDARD
BEGIN:DAYLIGHT
TZOFFSETFROM:+0200
TZOFFSETTO:+0300
TZNAME:EEST
DTSTART:20270328T010000
END:DAYLIGHT
BEGIN:STANDARD
TZOFFSETFROM:+0300
TZOFFSETTO:+0200
TZNAME:EET
DTSTART:20271031T010000
END:STANDARD
END:VTIMEZONE
BEGIN:VEVENT
DTSTART;TZID=Europe/Helsinki:20260507T190000
DTEND;TZID=Europe/Helsinki:20260507T210000
DTSTAMP:20260422T185310
CREATED:20260219T123008Z
LAST-MODIFIED:20260420T094532Z
UID:10025325-1778180400-1778187600@www.hellokuopio.fi
SUMMARY:Tomi Kämäräisen Jatsahtavat jamit
DESCRIPTION:Huippusuositut Jatsahtavat jamit starttaa kevätkauden. Paikkana toimii Ravintola Kummisetä. \nJami-iltaan kuuluu aina ”houseband”\, joka aloittaa illan lyhyellä setillä. Tämän jälkeen halukkaat pääsevät soittamaan housebandin liidatessa jameja. Paikalla on kevyt soitinkattaus sekä pieni PA. Ota kuitenkin oma instrumentti mukaan\, jos tarve/halu sitä vaatii. Sponsorina toimii Kuopion F-Musiikki sekä Omniwood! \nJamit alkaa klo 19:00. Vapaa pääsy! \nSoittimet: \nBasso \nPiano \nLaulu \nKitara \nRummut
URL:https://www.hellokuopio.fi/tapahtuma/tomi-kamaraisen-jatsahtavat-jamit-2/2026-05-07/
LOCATION:Ravintola Kummisetä\, Minna Canthin katu 44\, Kuopio\, 70100
CATEGORIES:Musiikkitapahtumat
ATTACH;FMTTYPE=image/jpeg:https://www.hellokuopio.fi/app/uploads/2026/04/tomi-kamaraisen-jatsahtavat-jamit-image_1.jpg
END:VEVENT
END:VCALENDAR