BEGIN:VCALENDAR
VERSION:2.0
PRODID:-//Hello Kuopio - ECPv6.15.17.1//NONSGML v1.0//EN
CALSCALE:GREGORIAN
METHOD:PUBLISH
X-WR-CALNAME:Hello Kuopio
X-ORIGINAL-URL:https://www.hellokuopio.fi
X-WR-CALDESC:Tapahtumat Hello Kuopio
REFRESH-INTERVAL;VALUE=DURATION:PT1H
X-Robots-Tag:noindex
X-PUBLISHED-TTL:PT1H
BEGIN:VTIMEZONE
TZID:Europe/Helsinki
BEGIN:DAYLIGHT
TZOFFSETFROM:+0200
TZOFFSETTO:+0300
TZNAME:EEST
DTSTART:20250330T010000
END:DAYLIGHT
BEGIN:STANDARD
TZOFFSETFROM:+0300
TZOFFSETTO:+0200
TZNAME:EET
DTSTART:20251026T010000
END:STANDARD
BEGIN:DAYLIGHT
TZOFFSETFROM:+0200
TZOFFSETTO:+0300
TZNAME:EEST
DTSTART:20260329T010000
END:DAYLIGHT
BEGIN:STANDARD
TZOFFSETFROM:+0300
TZOFFSETTO:+0200
TZNAME:EET
DTSTART:20261025T010000
END:STANDARD
BEGIN:DAYLIGHT
TZOFFSETFROM:+0200
TZOFFSETTO:+0300
TZNAME:EEST
DTSTART:20270328T010000
END:DAYLIGHT
BEGIN:STANDARD
TZOFFSETFROM:+0300
TZOFFSETTO:+0200
TZNAME:EET
DTSTART:20271031T010000
END:STANDARD
END:VTIMEZONE
BEGIN:VEVENT
DTSTART;TZID=Europe/Helsinki:20260522T090000
DTEND;TZID=Europe/Helsinki:20260522T103000
DTSTAMP:20260422T185310
CREATED:20260302T080010Z
LAST-MODIFIED:20260420T094517Z
UID:10025407-1779440400-1779445800@www.hellokuopio.fi
SUMMARY:Perhekahvila
DESCRIPTION:Perhekahvila taidepäiväkoti Valossa! \nPerhekahvilassa on tarjolla mukavaa ja leppoista yhdessäoloa kahvittelun ja lasten omien leikkien merkeissä. \nAika: Perhekahvila on avoinna pe 13.3. 17.4. & 22.5. klo 9-10:30 \nPaikka: Perhekahvila toimii Valon tiloissa osoitteessa Paloniementie 4\, 70840 Kuopio. \nPilke-päiväkotien perhekahvila on avoin kohtaamispaikka kaiken ikäisille lapsille ja vanhemmille. Kahvilaan ei tarvitse erikseen ilmoittautua\, vaan voit tulla mukaan silloin\, kun se omaan aikatauluun sopii. \nTervetuloa\, nähdään perhekahvilassa! \nLisätietoja: \nPäiväkodin johtaja Tuukka Tuomela \nPuh. 040 457 3950 \ntuukka.tuomela@pilkepaivakodit.fi
URL:https://www.hellokuopio.fi/tapahtuma/perhekahvila-taidepaivakoti-valo/2026-05-22/
LOCATION:Taidepäiväkoti Valo\, Paloniementie 4\, Kuopio\, 70840
CATEGORIES:Lasten tapahtumat
END:VEVENT
END:VCALENDAR