BEGIN:VCALENDAR
VERSION:2.0
PRODID:-//Hello Kuopio - ECPv6.15.17.1//NONSGML v1.0//EN
CALSCALE:GREGORIAN
METHOD:PUBLISH
X-WR-CALNAME:Hello Kuopio
X-ORIGINAL-URL:https://www.hellokuopio.fi
X-WR-CALDESC:Tapahtumat Hello Kuopio
REFRESH-INTERVAL;VALUE=DURATION:PT1H
X-Robots-Tag:noindex
X-PUBLISHED-TTL:PT1H
BEGIN:VTIMEZONE
TZID:Europe/Helsinki
BEGIN:DAYLIGHT
TZOFFSETFROM:+0200
TZOFFSETTO:+0300
TZNAME:EEST
DTSTART:20250330T010000
END:DAYLIGHT
BEGIN:STANDARD
TZOFFSETFROM:+0300
TZOFFSETTO:+0200
TZNAME:EET
DTSTART:20251026T010000
END:STANDARD
BEGIN:DAYLIGHT
TZOFFSETFROM:+0200
TZOFFSETTO:+0300
TZNAME:EEST
DTSTART:20260329T010000
END:DAYLIGHT
BEGIN:STANDARD
TZOFFSETFROM:+0300
TZOFFSETTO:+0200
TZNAME:EET
DTSTART:20261025T010000
END:STANDARD
BEGIN:DAYLIGHT
TZOFFSETFROM:+0200
TZOFFSETTO:+0300
TZNAME:EEST
DTSTART:20270328T010000
END:DAYLIGHT
BEGIN:STANDARD
TZOFFSETFROM:+0300
TZOFFSETTO:+0200
TZNAME:EET
DTSTART:20271031T010000
END:STANDARD
END:VTIMEZONE
BEGIN:VEVENT
DTSTART;TZID=Europe/Helsinki:20260522T133000
DTEND;TZID=Europe/Helsinki:20260522T133000
DTSTAMP:20260422T185310
CREATED:20260331T113012Z
LAST-MODIFIED:20260420T094541Z
UID:10026267-1779456600-1779456600@www.hellokuopio.fi
SUMMARY:Duo La Chanson
DESCRIPTION:Akseli Ferrandin ja Milan Heiskasen muodostama Duo La Chanson tarjoaa ranskalaista chanson-musiikkia. Luvassa on mm. Edith Piafin\, Jacques Brelin\, Charles Aznavourin ja Charles Trenet’n kirkkaimpia helmiä. \nEsitykset Minna-lämpiössä. Halutessaan voi ostaa tarjoiluja ennen esitystä ja nauttia niistä esityksen aikana. \nEsitykset: \npe 22.5. klo 13.30 \nsu 24.5. klo 18.00 \nLaulajana kuullaan Akseli Ferrandia\, joka valmistui musiikin maisteriksi Taideyliopiston Sibelius-Akatemiasta vuonna 2023. Hän opiskeli sivuaineena musiikkiteatteria Teatterikorkeakoulussa. Ferrand on nähty Helsingin kaupunginteatterin näyttämöllä vuosina 2023–2024 ja tällä hetkellä hänellä on kahden vuoden kiinnitys Kuopion kaupunginteatterissa. Hänet on voinut nähdä muun muassa musikaaleissa Täydellinen resepti ja Veriveljet. Helmikuussa 2025 hän teki solistidebyyttinsä Kansallisoopperassa Iloinen leski -operetissa. \nPianistina toimii Milan Heiskanen\, joka valmistui musiikin maisteriksi Taideyliopiston Sibelius-Akatemiasta vuonna 2021\, pääaineenaan piano. Häntä opettivat Anna Kuvaja\, Tuija Hakkila sekä Ilmo Ranta. Opintoja hän täydensi useilla mestarikursseilla Suomessa\, opettajinaan mm. Eero Heinonen\, Henri Sigfridsson\, Malcolm Bilson\, Hortense Cartier-Bresson sekä Natacha Kudritskaya. Tällä hetkellä Heiskanen työskentelee Vantaan musiikkiopistossa pianonsoiton lehtorina \nsekä esiintyy yksin ja yhdessä erilaisissa mielenkiintoisissa konserteissa ympäri Suomen. \nDuo on esiintynyt yhdessä vuodesta 2020 lähtien muun muassa Ranskan suurlähetystössä\, Joroisten musiikkijuhlilla sekä lukuisissa yksityistilaisuuksissa. Kesällä 2025 duo ilahdutti yleisöä mm. Pälkäneen kamarimusiikkipäivillä ja Hauhon musiikkijuhlilla. \nLiput: \n\n25 € / peruslippu\n22 € / eläkeläiset\, opiskelijat\, työttömät\, varushenkilöt\n20 € / lapset (alle 16-vuotiaat)\n20 € / ryhmät (väh. 20 hlö)\, pyörätuolit. Pyörätuolilippuun sisältyy avustajapaikka. Muut avustajapaikat varattava erikseen.\nHinnat sisältävät palvelumaksun.\nOsta liput>
URL:https://www.hellokuopio.fi/tapahtuma/duo-la-chanson/2026-05-22/
LOCATION:Kuopion Kaupunginteatteri\, Niiralankatu 2\, Kuopio\, 70600\, Suomi
CATEGORIES:Musiikkitapahtumat
ATTACH;FMTTYPE=image/jpeg:https://www.hellokuopio.fi/app/uploads/2026/04/duo-la-chanson-image_1.jpg
GEO:62.8926499;27.6644164
X-APPLE-STRUCTURED-LOCATION;VALUE=URI;X-ADDRESS=Kuopion Kaupunginteatteri Niiralankatu 2 Kuopio 70600 Suomi;X-APPLE-RADIUS=500;X-TITLE=Niiralankatu 2:geo:27.6644164,62.8926499
END:VEVENT
BEGIN:VEVENT
DTSTART;TZID=Europe/Helsinki:20260524T180000
DTEND;TZID=Europe/Helsinki:20260524T180000
DTSTAMP:20260422T185310
CREATED:20260331T113012Z
LAST-MODIFIED:20260420T094541Z
UID:10026268-1779645600-1779645600@www.hellokuopio.fi
SUMMARY:Duo La Chanson
DESCRIPTION:Akseli Ferrandin ja Milan Heiskasen muodostama Duo La Chanson tarjoaa ranskalaista chanson-musiikkia. Luvassa on mm. Edith Piafin\, Jacques Brelin\, Charles Aznavourin ja Charles Trenet’n kirkkaimpia helmiä. \nEsitykset Minna-lämpiössä. Halutessaan voi ostaa tarjoiluja ennen esitystä ja nauttia niistä esityksen aikana. \nEsitykset: \npe 22.5. klo 13.30 \nsu 24.5. klo 18.00 \nLaulajana kuullaan Akseli Ferrandia\, joka valmistui musiikin maisteriksi Taideyliopiston Sibelius-Akatemiasta vuonna 2023. Hän opiskeli sivuaineena musiikkiteatteria Teatterikorkeakoulussa. Ferrand on nähty Helsingin kaupunginteatterin näyttämöllä vuosina 2023–2024 ja tällä hetkellä hänellä on kahden vuoden kiinnitys Kuopion kaupunginteatterissa. Hänet on voinut nähdä muun muassa musikaaleissa Täydellinen resepti ja Veriveljet. Helmikuussa 2025 hän teki solistidebyyttinsä Kansallisoopperassa Iloinen leski -operetissa. \nPianistina toimii Milan Heiskanen\, joka valmistui musiikin maisteriksi Taideyliopiston Sibelius-Akatemiasta vuonna 2021\, pääaineenaan piano. Häntä opettivat Anna Kuvaja\, Tuija Hakkila sekä Ilmo Ranta. Opintoja hän täydensi useilla mestarikursseilla Suomessa\, opettajinaan mm. Eero Heinonen\, Henri Sigfridsson\, Malcolm Bilson\, Hortense Cartier-Bresson sekä Natacha Kudritskaya. Tällä hetkellä Heiskanen työskentelee Vantaan musiikkiopistossa pianonsoiton lehtorina \nsekä esiintyy yksin ja yhdessä erilaisissa mielenkiintoisissa konserteissa ympäri Suomen. \nDuo on esiintynyt yhdessä vuodesta 2020 lähtien muun muassa Ranskan suurlähetystössä\, Joroisten musiikkijuhlilla sekä lukuisissa yksityistilaisuuksissa. Kesällä 2025 duo ilahdutti yleisöä mm. Pälkäneen kamarimusiikkipäivillä ja Hauhon musiikkijuhlilla. \nLiput: \n\n25 € / peruslippu\n22 € / eläkeläiset\, opiskelijat\, työttömät\, varushenkilöt\n20 € / lapset (alle 16-vuotiaat)\n20 € / ryhmät (väh. 20 hlö)\, pyörätuolit. Pyörätuolilippuun sisältyy avustajapaikka. Muut avustajapaikat varattava erikseen.\nHinnat sisältävät palvelumaksun.\nOsta liput>
URL:https://www.hellokuopio.fi/tapahtuma/duo-la-chanson/2026-05-24/
LOCATION:Kuopion Kaupunginteatteri\, Niiralankatu 2\, Kuopio\, 70600\, Suomi
CATEGORIES:Musiikkitapahtumat
ATTACH;FMTTYPE=image/jpeg:https://www.hellokuopio.fi/app/uploads/2026/04/duo-la-chanson-image_1.jpg
GEO:62.8926499;27.6644164
X-APPLE-STRUCTURED-LOCATION;VALUE=URI;X-ADDRESS=Kuopion Kaupunginteatteri Niiralankatu 2 Kuopio 70600 Suomi;X-APPLE-RADIUS=500;X-TITLE=Niiralankatu 2:geo:27.6644164,62.8926499
END:VEVENT
END:VCALENDAR