BEGIN:VCALENDAR
VERSION:2.0
PRODID:-//Hello Kuopio - ECPv6.15.17.1//NONSGML v1.0//EN
CALSCALE:GREGORIAN
METHOD:PUBLISH
X-WR-CALNAME:Hello Kuopio
X-ORIGINAL-URL:https://www.hellokuopio.fi
X-WR-CALDESC:Tapahtumat Hello Kuopio
REFRESH-INTERVAL;VALUE=DURATION:PT1H
X-Robots-Tag:noindex
X-PUBLISHED-TTL:PT1H
BEGIN:VTIMEZONE
TZID:Europe/Helsinki
BEGIN:DAYLIGHT
TZOFFSETFROM:+0200
TZOFFSETTO:+0300
TZNAME:EEST
DTSTART:20250330T010000
END:DAYLIGHT
BEGIN:STANDARD
TZOFFSETFROM:+0300
TZOFFSETTO:+0200
TZNAME:EET
DTSTART:20251026T010000
END:STANDARD
BEGIN:DAYLIGHT
TZOFFSETFROM:+0200
TZOFFSETTO:+0300
TZNAME:EEST
DTSTART:20260329T010000
END:DAYLIGHT
BEGIN:STANDARD
TZOFFSETFROM:+0300
TZOFFSETTO:+0200
TZNAME:EET
DTSTART:20261025T010000
END:STANDARD
BEGIN:DAYLIGHT
TZOFFSETFROM:+0200
TZOFFSETTO:+0300
TZNAME:EEST
DTSTART:20270328T010000
END:DAYLIGHT
BEGIN:STANDARD
TZOFFSETFROM:+0300
TZOFFSETTO:+0200
TZNAME:EET
DTSTART:20271031T010000
END:STANDARD
END:VTIMEZONE
BEGIN:VEVENT
DTSTART;TZID=Europe/Helsinki:20260610T180000
DTEND;TZID=Europe/Helsinki:20260610T184500
DTSTAMP:20260425T144709
CREATED:20260331T121509Z
LAST-MODIFIED:20260425T114519Z
UID:10026272-1781114400-1781117100@www.hellokuopio.fi
SUMMARY:Wild Poetry by Hofesh Shechter
DESCRIPTION:Wild Poetry by Hofesh Shechter | GöteborgsOperans Danskompani \nTapahtuma on osa Kuopio Tanssii ja Soi festivaalia. \nHofesh Shechter on rocktähti tanssin maailmassa. Hänen teoksensa ovat tunnettuja omaperäisen fyysisestä liikkeestä\, joissa usein parodia ja vilpittömyys limittyvät toisiinsa luontevasti. \nTeoksessa Wild Poetry nähdään monikerroksinen koreografia\, jota kantaa ryhmän voimakas energia. Tanssijat ovat jatkuvassa liikkeessä\, yhdessä ja erikseen. \nVuonna 2023 ensi-iltansa saanut teos on intensiivinen\, yllättävä ja hetkittäin jopa meditatiivinen. Shechter on säveltänyt teokseen myös musiikin\, jonka tunnelmallisuus täydentää teoksen räjähtävän fyysistä ilmaisua. \nKesto: noin 45 min. \nLiput\n\n59€\, peruslippu\n49€\, eläkeläinen\, opiskelija\, työtön\, lapset alle 16v.\nLue lisää ja osta liput>\n\n\n\nKatso myös: \n\nMukavin majoitus\nSyö ja juo\nTapahtumakalenteri
URL:https://www.hellokuopio.fi/tapahtuma/wild-poetry-by-hofesh-shechter/2026-06-10/
LOCATION:Olvi Areena\, Hannes Kolehmaisen katu 4\, Kuopio\, 70110
CATEGORIES:Kulttuuritapahtumat
ATTACH;FMTTYPE=image/jpeg:https://www.hellokuopio.fi/app/uploads/2026/04/wild-poetry-by-hofesh-shechter-image_1.jpg
END:VEVENT
BEGIN:VEVENT
DTSTART;TZID=Europe/Helsinki:20260611T180000
DTEND;TZID=Europe/Helsinki:20260611T184500
DTSTAMP:20260425T144709
CREATED:20260331T121509Z
LAST-MODIFIED:20260425T114519Z
UID:10026273-1781200800-1781203500@www.hellokuopio.fi
SUMMARY:Wild Poetry by Hofesh Shechter
DESCRIPTION:Wild Poetry by Hofesh Shechter | GöteborgsOperans Danskompani \nTapahtuma on osa Kuopio Tanssii ja Soi festivaalia. \nHofesh Shechter on rocktähti tanssin maailmassa. Hänen teoksensa ovat tunnettuja omaperäisen fyysisestä liikkeestä\, joissa usein parodia ja vilpittömyys limittyvät toisiinsa luontevasti. \nTeoksessa Wild Poetry nähdään monikerroksinen koreografia\, jota kantaa ryhmän voimakas energia. Tanssijat ovat jatkuvassa liikkeessä\, yhdessä ja erikseen. \nVuonna 2023 ensi-iltansa saanut teos on intensiivinen\, yllättävä ja hetkittäin jopa meditatiivinen. Shechter on säveltänyt teokseen myös musiikin\, jonka tunnelmallisuus täydentää teoksen räjähtävän fyysistä ilmaisua. \nKesto: noin 45 min. \nLiput\n\n59€\, peruslippu\n49€\, eläkeläinen\, opiskelija\, työtön\, lapset alle 16v.\nLue lisää ja osta liput>\n\n\n\nKatso myös: \n\nMukavin majoitus\nSyö ja juo\nTapahtumakalenteri
URL:https://www.hellokuopio.fi/tapahtuma/wild-poetry-by-hofesh-shechter/2026-06-11/
LOCATION:Olvi Areena\, Hannes Kolehmaisen katu 4\, Kuopio\, 70110
CATEGORIES:Kulttuuritapahtumat
ATTACH;FMTTYPE=image/jpeg:https://www.hellokuopio.fi/app/uploads/2026/04/wild-poetry-by-hofesh-shechter-image_1.jpg
END:VEVENT
END:VCALENDAR