BEGIN:VCALENDAR
VERSION:2.0
PRODID:-//Hello Kuopio - ECPv6.15.17.1//NONSGML v1.0//EN
CALSCALE:GREGORIAN
METHOD:PUBLISH
X-WR-CALNAME:Hello Kuopio
X-ORIGINAL-URL:https://www.hellokuopio.fi
X-WR-CALDESC:Tapahtumat Hello Kuopio
REFRESH-INTERVAL;VALUE=DURATION:PT1H
X-Robots-Tag:noindex
X-PUBLISHED-TTL:PT1H
BEGIN:VTIMEZONE
TZID:Europe/Helsinki
BEGIN:DAYLIGHT
TZOFFSETFROM:+0200
TZOFFSETTO:+0300
TZNAME:EEST
DTSTART:20250330T010000
END:DAYLIGHT
BEGIN:STANDARD
TZOFFSETFROM:+0300
TZOFFSETTO:+0200
TZNAME:EET
DTSTART:20251026T010000
END:STANDARD
BEGIN:DAYLIGHT
TZOFFSETFROM:+0200
TZOFFSETTO:+0300
TZNAME:EEST
DTSTART:20260329T010000
END:DAYLIGHT
BEGIN:STANDARD
TZOFFSETFROM:+0300
TZOFFSETTO:+0200
TZNAME:EET
DTSTART:20261025T010000
END:STANDARD
BEGIN:DAYLIGHT
TZOFFSETFROM:+0200
TZOFFSETTO:+0300
TZNAME:EEST
DTSTART:20270328T010000
END:DAYLIGHT
BEGIN:STANDARD
TZOFFSETFROM:+0300
TZOFFSETTO:+0200
TZNAME:EET
DTSTART:20271031T010000
END:STANDARD
END:VTIMEZONE
BEGIN:VEVENT
DTSTART;TZID=Europe/Helsinki:20260612T193000
DTEND;TZID=Europe/Helsinki:20260612T202500
DTSTAMP:20260422T212146
CREATED:20260331T121510Z
LAST-MODIFIED:20260417T130023Z
UID:10026274-1781292600-1781295900@www.hellokuopio.fi
SUMMARY:We Made a Mess! by Botis Seva
DESCRIPTION:Tapahtuma on osa Kuopio Tanssii ja Soi festivaalia. \nFestivaali tuo Kuopioon kansainvälisen huippukoreografin Botis Sevan uutuusteoksen\, joka saa ensi-iltansa GöteborgsOperans Danskompanin ohjelmistossa helmikuussa 2026. Kuopio Tanssii ja Soi tarjoaa yleisölle ainutlaatuisen mahdollisuuden nähdä teoksen heti sen kantaesityksen jälkeen. \nBotis Seva on koreografi\, jolla on ainutlaatuinen\, hiphop-tanssityyliin pohjautuva ääni sekä rajoja rikkova lähestymistapa. Hänen teoksensa kumpuavat todellisesta elämästä ja heijastavat sekä hänen omia tarinoitaan\, että hänen ympärillään olevien ihmisten kokemuksia. Hän ammentaa vaikutteita myös elokuvista\, tekstistä\, kuvataiteesta ja muista tanssin kielistä\, jatkuvasti uudistaen luovaa ajatteluaan ja suhdettaan näyttämötaiteeseen. \nBotis Sevan mukaan We Made a Mess! ammentaa inspiraation koulupihojen leikkien valtadynamiikasta ja vallan käytöstä. \nBotis tutustui tanssiin 15-vuotiaana yläkoulussa\, ja juuri siellä hän päätti ryhtyä koreografiksi perinteisen koulutuspolun ulkopuolella. Hän perusti oman hiphop-tanssiteatteriryhmänsä\, Far From The Norm\, 19-vuotiaana Dagenhamissa\, Lontoossa. Varhaisina koreografin vuosinaan Botis kehitti taitojaan ja ilmaisuvoimaansa mentoroinnin ja taiteellisen kehitystyön kautta Breakin’ Convention -ohjelmassa Sadler’s Wells -teatterissa. Botisin uusin tilaustyö on tehty NDT2:lle. \nKesto: noin 54min. \nLiput \n\n59€\n49€\, eläkeläiset\, opiskelijat\, työttömät\, lapset alle 16v.\nLue lisää ja osta liput\n\nKatso myös: \n\nKoko Kuopio Tanssii ja Soi festivaaliviikon ohjelma\nMukavin majoitus\nSyö ja juo\nTapahtumakalenteri\n\n  \nKuva: © Tilo Stengel
URL:https://www.hellokuopio.fi/tapahtuma/we-made-a-mess-by-botis-seva/2026-06-12/
LOCATION:Olvi Areena\, Hannes Kolehmaisen katu 4\, Kuopio\, 70110
CATEGORIES:Kulttuuritapahtumat
ATTACH;FMTTYPE=image/jpeg:https://www.hellokuopio.fi/app/uploads/2026/04/we-made-a-mess-by-botis-seva-image_1.jpg
END:VEVENT
BEGIN:VEVENT
DTSTART;TZID=Europe/Helsinki:20260613T193000
DTEND;TZID=Europe/Helsinki:20260613T202500
DTSTAMP:20260422T212146
CREATED:20260331T121510Z
LAST-MODIFIED:20260417T130023Z
UID:10026275-1781379000-1781382300@www.hellokuopio.fi
SUMMARY:We Made a Mess! by Botis Seva
DESCRIPTION:Tapahtuma on osa Kuopio Tanssii ja Soi festivaalia. \nFestivaali tuo Kuopioon kansainvälisen huippukoreografin Botis Sevan uutuusteoksen\, joka saa ensi-iltansa GöteborgsOperans Danskompanin ohjelmistossa helmikuussa 2026. Kuopio Tanssii ja Soi tarjoaa yleisölle ainutlaatuisen mahdollisuuden nähdä teoksen heti sen kantaesityksen jälkeen. \nBotis Seva on koreografi\, jolla on ainutlaatuinen\, hiphop-tanssityyliin pohjautuva ääni sekä rajoja rikkova lähestymistapa. Hänen teoksensa kumpuavat todellisesta elämästä ja heijastavat sekä hänen omia tarinoitaan\, että hänen ympärillään olevien ihmisten kokemuksia. Hän ammentaa vaikutteita myös elokuvista\, tekstistä\, kuvataiteesta ja muista tanssin kielistä\, jatkuvasti uudistaen luovaa ajatteluaan ja suhdettaan näyttämötaiteeseen. \nBotis Sevan mukaan We Made a Mess! ammentaa inspiraation koulupihojen leikkien valtadynamiikasta ja vallan käytöstä. \nBotis tutustui tanssiin 15-vuotiaana yläkoulussa\, ja juuri siellä hän päätti ryhtyä koreografiksi perinteisen koulutuspolun ulkopuolella. Hän perusti oman hiphop-tanssiteatteriryhmänsä\, Far From The Norm\, 19-vuotiaana Dagenhamissa\, Lontoossa. Varhaisina koreografin vuosinaan Botis kehitti taitojaan ja ilmaisuvoimaansa mentoroinnin ja taiteellisen kehitystyön kautta Breakin’ Convention -ohjelmassa Sadler’s Wells -teatterissa. Botisin uusin tilaustyö on tehty NDT2:lle. \nKesto: noin 54min. \nLiput \n\n59€\n49€\, eläkeläiset\, opiskelijat\, työttömät\, lapset alle 16v.\nLue lisää ja osta liput\n\nKatso myös: \n\nKoko Kuopio Tanssii ja Soi festivaaliviikon ohjelma\nMukavin majoitus\nSyö ja juo\nTapahtumakalenteri\n\n  \nKuva: © Tilo Stengel
URL:https://www.hellokuopio.fi/tapahtuma/we-made-a-mess-by-botis-seva/2026-06-13/
LOCATION:Olvi Areena\, Hannes Kolehmaisen katu 4\, Kuopio\, 70110
CATEGORIES:Kulttuuritapahtumat
ATTACH;FMTTYPE=image/jpeg:https://www.hellokuopio.fi/app/uploads/2026/04/we-made-a-mess-by-botis-seva-image_1.jpg
END:VEVENT
END:VCALENDAR