BEGIN:VCALENDAR
VERSION:2.0
PRODID:-//Hello Kuopio - ECPv6.15.17.1//NONSGML v1.0//EN
CALSCALE:GREGORIAN
METHOD:PUBLISH
X-WR-CALNAME:Hello Kuopio
X-ORIGINAL-URL:https://www.hellokuopio.fi
X-WR-CALDESC:Tapahtumat Hello Kuopio
REFRESH-INTERVAL;VALUE=DURATION:PT1H
X-Robots-Tag:noindex
X-PUBLISHED-TTL:PT1H
BEGIN:VTIMEZONE
TZID:Europe/Helsinki
BEGIN:DAYLIGHT
TZOFFSETFROM:+0200
TZOFFSETTO:+0300
TZNAME:EEST
DTSTART:20250330T010000
END:DAYLIGHT
BEGIN:STANDARD
TZOFFSETFROM:+0300
TZOFFSETTO:+0200
TZNAME:EET
DTSTART:20251026T010000
END:STANDARD
BEGIN:DAYLIGHT
TZOFFSETFROM:+0200
TZOFFSETTO:+0300
TZNAME:EEST
DTSTART:20260329T010000
END:DAYLIGHT
BEGIN:STANDARD
TZOFFSETFROM:+0300
TZOFFSETTO:+0200
TZNAME:EET
DTSTART:20261025T010000
END:STANDARD
BEGIN:DAYLIGHT
TZOFFSETFROM:+0200
TZOFFSETTO:+0300
TZNAME:EEST
DTSTART:20270328T010000
END:DAYLIGHT
BEGIN:STANDARD
TZOFFSETFROM:+0300
TZOFFSETTO:+0200
TZNAME:EET
DTSTART:20271031T010000
END:STANDARD
END:VTIMEZONE
BEGIN:VEVENT
DTSTART;TZID=Europe/Helsinki:20260612T210000
DTEND;TZID=Europe/Helsinki:20260612T214000
DTSTAMP:20260422T200602
CREATED:20260331T121510Z
LAST-MODIFIED:20260420T094541Z
UID:10026276-1781298000-1781300400@www.hellokuopio.fi
SUMMARY:Cold Song by Marcos Morau
DESCRIPTION:Cold Song by Marcos Morau | GöteborgsOperans Danskompani \nKuopio Tanssii ja Soi tuo Kuopioon kansainvälisen huippukoreografin Marcos Moraun uutuusteoksen Cold Song\, joka saa ensi-iltansa GöteborgsOperans Danskompanin ohjelmistossa helmikuussa 2026. Kuopio Tanssii ja Soi tarjoaa yleisölle ainutlaatuisen mahdollisuuden nähdä teoksen heti sen kantaesityksen jälkeen. \nEspanjalainen koreografi ja monialainen taiteilija Marcos Morau tunnetaan villeistä ja viihdyttävistä teoksistaan\, joissa absurdi huumori on olennainen osa ilmaisua – eikä uutuusteos Cold Song ole poikkeus. Teoksen nimi viittaa musiikkiin\, joka pohjautuu aariaan Henry Purcellin oopperasta King Arthur. Näyttämöllä tanssijat muuntuvat erilaisiksi hahmoiksi\, ja lavastuksen keskiössä on salaperäinen laatikko\, joka kätkee sisäänsä mielikuvituksellisia ja yllättäviä kojeita. \nSekä esiintyjät että näyttämökuva elävät ja muuttuvat\, kun Cold Song kuljettaa katsojan todellisuuden ja teatterillisen taian rajamaille. Teos on herättänyt laajaa kiinnostusta jo ennen maailmanensi-iltaansa ja se on varattu useille eurooppalaisille kiertuenäyttämöille. \nMarcos Morau\nMarcos Morau opiskeli koreografiksi Barcelonassa\, Valenciassa ja New Yorkissa\, saaden lopputyöstään korkeimman arvosanan sekä Institut del Teatre -instituutin erityispalkinnon. Hänen taiteellinen osaamisensa ulottuu tanssin lisäksi myös muun muassa valokuvauksen ja teatterin puolelle. \nVuodesta 2005 lähtien Morau on johtanut barcelonalaista La Veronal -ryhmää\, jolle hän on koreografina ja visuaalisena suunnittelijana luonut kokonaisvaltaisia\, tanssia ja teatteria yhdisteleviä maailmoja. \nMorau tunnetaan surrealistisista ja visuaalisesti vaikuttavista teoksistaan\, jotka ammentavat vaikutteita muun muassa abstraktista liikkeestä ja fyysisestä teatterista. Hänen teoksensa ovat kiertäneet kansainvälisiä festivaaleja ja näyttämöitä\, kuten Théâtre National de Chaillot’ssa Pariisissa\, Venetsian Biennalessa\, Sadler’s Wellsissä Lontoossa ja Berliinin Tanz im August -festivaalilla. Hän on tehnyt koreografisia projekteja myös Nederlands Dans Theaterin (NDT) kanssa. \nMorau on teoksillaan voittanut useita kansallisia ja kansainvälisiä koreografiakilpailuja\, ja saksalainen TANZ-lehti on hiljattain valinnut hänet kahdesti peräkkäin vuoden parhaaksi koreografiksi. \nKesto: noin 38 min. \nLiput\n\n48\,50€\n38\,50€\, eläkeläiset\, opiskelijat\, työttömät\, lapset alle 16v.\nLue lisää ja osta liput>\n\n\n  \nKatso myös: \n\nKoko Kuopio Tanssii ja Soi festivaaliviikon ohjelma\nMukavin majoitus\nSyö ja juo\nTapahtumakalenteri\n\n\n\n\n\n\n\n\n\nKuva: Tilo Stengel
URL:https://www.hellokuopio.fi/tapahtuma/cold-song-by-marcos-morau/2026-06-12/
LOCATION:Kuopion Kaupunginteatteri\, Niiralankatu 2\, Kuopio\, 70600\, Suomi
CATEGORIES:Kulttuuritapahtumat
ATTACH;FMTTYPE=image/jpeg:https://www.hellokuopio.fi/app/uploads/2026/04/cold-song-by-marcos-morau-image_1.jpg
GEO:62.8926499;27.6644164
X-APPLE-STRUCTURED-LOCATION;VALUE=URI;X-ADDRESS=Kuopion Kaupunginteatteri Niiralankatu 2 Kuopio 70600 Suomi;X-APPLE-RADIUS=500;X-TITLE=Niiralankatu 2:geo:27.6644164,62.8926499
END:VEVENT
BEGIN:VEVENT
DTSTART;TZID=Europe/Helsinki:20260613T210000
DTEND;TZID=Europe/Helsinki:20260613T214000
DTSTAMP:20260422T200602
CREATED:20260331T121510Z
LAST-MODIFIED:20260420T094541Z
UID:10026277-1781384400-1781386800@www.hellokuopio.fi
SUMMARY:Cold Song by Marcos Morau
DESCRIPTION:Cold Song by Marcos Morau | GöteborgsOperans Danskompani \nKuopio Tanssii ja Soi tuo Kuopioon kansainvälisen huippukoreografin Marcos Moraun uutuusteoksen Cold Song\, joka saa ensi-iltansa GöteborgsOperans Danskompanin ohjelmistossa helmikuussa 2026. Kuopio Tanssii ja Soi tarjoaa yleisölle ainutlaatuisen mahdollisuuden nähdä teoksen heti sen kantaesityksen jälkeen. \nEspanjalainen koreografi ja monialainen taiteilija Marcos Morau tunnetaan villeistä ja viihdyttävistä teoksistaan\, joissa absurdi huumori on olennainen osa ilmaisua – eikä uutuusteos Cold Song ole poikkeus. Teoksen nimi viittaa musiikkiin\, joka pohjautuu aariaan Henry Purcellin oopperasta King Arthur. Näyttämöllä tanssijat muuntuvat erilaisiksi hahmoiksi\, ja lavastuksen keskiössä on salaperäinen laatikko\, joka kätkee sisäänsä mielikuvituksellisia ja yllättäviä kojeita. \nSekä esiintyjät että näyttämökuva elävät ja muuttuvat\, kun Cold Song kuljettaa katsojan todellisuuden ja teatterillisen taian rajamaille. Teos on herättänyt laajaa kiinnostusta jo ennen maailmanensi-iltaansa ja se on varattu useille eurooppalaisille kiertuenäyttämöille. \nMarcos Morau\nMarcos Morau opiskeli koreografiksi Barcelonassa\, Valenciassa ja New Yorkissa\, saaden lopputyöstään korkeimman arvosanan sekä Institut del Teatre -instituutin erityispalkinnon. Hänen taiteellinen osaamisensa ulottuu tanssin lisäksi myös muun muassa valokuvauksen ja teatterin puolelle. \nVuodesta 2005 lähtien Morau on johtanut barcelonalaista La Veronal -ryhmää\, jolle hän on koreografina ja visuaalisena suunnittelijana luonut kokonaisvaltaisia\, tanssia ja teatteria yhdisteleviä maailmoja. \nMorau tunnetaan surrealistisista ja visuaalisesti vaikuttavista teoksistaan\, jotka ammentavat vaikutteita muun muassa abstraktista liikkeestä ja fyysisestä teatterista. Hänen teoksensa ovat kiertäneet kansainvälisiä festivaaleja ja näyttämöitä\, kuten Théâtre National de Chaillot’ssa Pariisissa\, Venetsian Biennalessa\, Sadler’s Wellsissä Lontoossa ja Berliinin Tanz im August -festivaalilla. Hän on tehnyt koreografisia projekteja myös Nederlands Dans Theaterin (NDT) kanssa. \nMorau on teoksillaan voittanut useita kansallisia ja kansainvälisiä koreografiakilpailuja\, ja saksalainen TANZ-lehti on hiljattain valinnut hänet kahdesti peräkkäin vuoden parhaaksi koreografiksi. \nKesto: noin 38 min. \nLiput\n\n48\,50€\n38\,50€\, eläkeläiset\, opiskelijat\, työttömät\, lapset alle 16v.\nLue lisää ja osta liput>\n\n\n  \nKatso myös: \n\nKoko Kuopio Tanssii ja Soi festivaaliviikon ohjelma\nMukavin majoitus\nSyö ja juo\nTapahtumakalenteri\n\n\n\n\n\n\n\n\n\nKuva: Tilo Stengel
URL:https://www.hellokuopio.fi/tapahtuma/cold-song-by-marcos-morau/2026-06-13/
LOCATION:Kuopion Kaupunginteatteri\, Niiralankatu 2\, Kuopio\, 70600\, Suomi
CATEGORIES:Kulttuuritapahtumat
ATTACH;FMTTYPE=image/jpeg:https://www.hellokuopio.fi/app/uploads/2026/04/cold-song-by-marcos-morau-image_1.jpg
GEO:62.8926499;27.6644164
X-APPLE-STRUCTURED-LOCATION;VALUE=URI;X-ADDRESS=Kuopion Kaupunginteatteri Niiralankatu 2 Kuopio 70600 Suomi;X-APPLE-RADIUS=500;X-TITLE=Niiralankatu 2:geo:27.6644164,62.8926499
END:VEVENT
END:VCALENDAR