BEGIN:VCALENDAR
VERSION:2.0
PRODID:-//Hello Kuopio - ECPv6.15.17.1//NONSGML v1.0//EN
CALSCALE:GREGORIAN
METHOD:PUBLISH
X-WR-CALNAME:Hello Kuopio
X-ORIGINAL-URL:https://www.hellokuopio.fi
X-WR-CALDESC:Tapahtumat Hello Kuopio
REFRESH-INTERVAL;VALUE=DURATION:PT1H
X-Robots-Tag:noindex
X-PUBLISHED-TTL:PT1H
BEGIN:VTIMEZONE
TZID:Europe/Helsinki
BEGIN:DAYLIGHT
TZOFFSETFROM:+0200
TZOFFSETTO:+0300
TZNAME:EEST
DTSTART:20250330T010000
END:DAYLIGHT
BEGIN:STANDARD
TZOFFSETFROM:+0300
TZOFFSETTO:+0200
TZNAME:EET
DTSTART:20251026T010000
END:STANDARD
BEGIN:DAYLIGHT
TZOFFSETFROM:+0200
TZOFFSETTO:+0300
TZNAME:EEST
DTSTART:20260329T010000
END:DAYLIGHT
BEGIN:STANDARD
TZOFFSETFROM:+0300
TZOFFSETTO:+0200
TZNAME:EET
DTSTART:20261025T010000
END:STANDARD
BEGIN:DAYLIGHT
TZOFFSETFROM:+0200
TZOFFSETTO:+0300
TZNAME:EEST
DTSTART:20270328T010000
END:DAYLIGHT
BEGIN:STANDARD
TZOFFSETFROM:+0300
TZOFFSETTO:+0200
TZNAME:EET
DTSTART:20271031T010000
END:STANDARD
END:VTIMEZONE
BEGIN:VEVENT
DTSTART;TZID=Europe/Helsinki:20260424T170000
DTEND;TZID=Europe/Helsinki:20260424T190000
DTSTAMP:20260421T115317
CREATED:20260413T093020Z
LAST-MODIFIED:20260420T054527Z
UID:10026460-1777050000-1777057200@www.hellokuopio.fi
SUMMARY:Sparkle-ilta
DESCRIPTION:Sparkle-ilta – Lasten ja nuorten omat iltabileet! \nSuperPark Tahkossa järjestettävät Sparkle -illat ovat täynnä värivaloja\, kimalletta\, pomppimista\, pelejä sekä musiikkia. Illan aikana tehdään kasvomaalauksia\, pompitaan valotrampoilla\, opetellaan temppuja benjitrampalla\, järjestetään leikkimielisiä kisailuja ja hypitään köysiradalta ja trapetsilta foam-altaaseen. \n \n\n \n\n \n\n \n\n \n\n \n\n \n\n \nPääsylippu pelkkään Sparkle-iltaan on koulujen loma-aikaan 17€ ja muina aikoina 15€\n\n\n\n\n\n\n\n  \n \n\n\n\n\n\n\n\n  \n  \n \n\n\n\n\n\n\n\n  \n \n\n\n\n\n\n\n\n  \n  \n  \n \n\n \n\n \n\n \n\n \n\n \n\n \n\n \nSuperPark Tahkon päivä- tai osapäivälipun hankkineille sekä SuperParkin kausikortti superiin sisäänpääsy kuuluu hankitun lipun hintaan. Kausikortti liten käyttäjä pääsee sisään loma-aikoina 5 € lisämaksulla.\n\n\n\n\n\n\n\n  \n \n\n\n\n\n\n\n\n  \n  \n \n\n\n\n\n\n\n\n  \n \n\n\n\n\n\n\n\n  \n  \n  \nLue lisää puiston verkkosivuilta.
URL:https://www.hellokuopio.fi/tapahtuma/sparkle-ilta/2026-04-24/
LOCATION:SuperPark Tahko\, Keitaankatu 1\, Tahkovuori\, 73310
CATEGORIES:Lasten tapahtumat
ATTACH;FMTTYPE=image/jpeg:https://www.hellokuopio.fi/app/uploads/2026/04/sparkle-ilta-image_1.jpg
GEO:63.2909907;28.0420862
X-APPLE-STRUCTURED-LOCATION;VALUE=URI;X-ADDRESS=SuperPark Tahko Keitaankatu 1 Tahkovuori 73310;X-APPLE-RADIUS=500;X-TITLE=Keitaankatu 1:geo:28.0420862,63.2909907
END:VEVENT
BEGIN:VEVENT
DTSTART;TZID=Europe/Helsinki:20260515T170000
DTEND;TZID=Europe/Helsinki:20260515T190000
DTSTAMP:20260421T115317
CREATED:20260413T093020Z
LAST-MODIFIED:20260420T054527Z
UID:10026461-1778864400-1778871600@www.hellokuopio.fi
SUMMARY:Sparkle-ilta
DESCRIPTION:Sparkle-ilta – Lasten ja nuorten omat iltabileet! \nSuperPark Tahkossa järjestettävät Sparkle -illat ovat täynnä värivaloja\, kimalletta\, pomppimista\, pelejä sekä musiikkia. Illan aikana tehdään kasvomaalauksia\, pompitaan valotrampoilla\, opetellaan temppuja benjitrampalla\, järjestetään leikkimielisiä kisailuja ja hypitään köysiradalta ja trapetsilta foam-altaaseen. \n \n\n \n\n \n\n \n\n \n\n \n\n \n\n \nPääsylippu pelkkään Sparkle-iltaan on koulujen loma-aikaan 17€ ja muina aikoina 15€\n\n\n\n\n\n\n\n  \n \n\n\n\n\n\n\n\n  \n  \n \n\n\n\n\n\n\n\n  \n \n\n\n\n\n\n\n\n  \n  \n  \n \n\n \n\n \n\n \n\n \n\n \n\n \n\n \nSuperPark Tahkon päivä- tai osapäivälipun hankkineille sekä SuperParkin kausikortti superiin sisäänpääsy kuuluu hankitun lipun hintaan. Kausikortti liten käyttäjä pääsee sisään loma-aikoina 5 € lisämaksulla.\n\n\n\n\n\n\n\n  \n \n\n\n\n\n\n\n\n  \n  \n \n\n\n\n\n\n\n\n  \n \n\n\n\n\n\n\n\n  \n  \n  \nLue lisää puiston verkkosivuilta.
URL:https://www.hellokuopio.fi/tapahtuma/sparkle-ilta/2026-05-15/
LOCATION:SuperPark Tahko\, Keitaankatu 1\, Tahkovuori\, 73310
CATEGORIES:Lasten tapahtumat
ATTACH;FMTTYPE=image/jpeg:https://www.hellokuopio.fi/app/uploads/2026/04/sparkle-ilta-image_1.jpg
GEO:63.2909907;28.0420862
X-APPLE-STRUCTURED-LOCATION;VALUE=URI;X-ADDRESS=SuperPark Tahko Keitaankatu 1 Tahkovuori 73310;X-APPLE-RADIUS=500;X-TITLE=Keitaankatu 1:geo:28.0420862,63.2909907
END:VEVENT
BEGIN:VEVENT
DTSTART;TZID=Europe/Helsinki:20260522T170000
DTEND;TZID=Europe/Helsinki:20260522T190000
DTSTAMP:20260421T115317
CREATED:20260413T093020Z
LAST-MODIFIED:20260420T054527Z
UID:10026462-1779469200-1779476400@www.hellokuopio.fi
SUMMARY:Sparkle-ilta
DESCRIPTION:Sparkle-ilta – Lasten ja nuorten omat iltabileet! \nSuperPark Tahkossa järjestettävät Sparkle -illat ovat täynnä värivaloja\, kimalletta\, pomppimista\, pelejä sekä musiikkia. Illan aikana tehdään kasvomaalauksia\, pompitaan valotrampoilla\, opetellaan temppuja benjitrampalla\, järjestetään leikkimielisiä kisailuja ja hypitään köysiradalta ja trapetsilta foam-altaaseen. \n \n\n \n\n \n\n \n\n \n\n \n\n \n\n \nPääsylippu pelkkään Sparkle-iltaan on koulujen loma-aikaan 17€ ja muina aikoina 15€\n\n\n\n\n\n\n\n  \n \n\n\n\n\n\n\n\n  \n  \n \n\n\n\n\n\n\n\n  \n \n\n\n\n\n\n\n\n  \n  \n  \n \n\n \n\n \n\n \n\n \n\n \n\n \n\n \nSuperPark Tahkon päivä- tai osapäivälipun hankkineille sekä SuperParkin kausikortti superiin sisäänpääsy kuuluu hankitun lipun hintaan. Kausikortti liten käyttäjä pääsee sisään loma-aikoina 5 € lisämaksulla.\n\n\n\n\n\n\n\n  \n \n\n\n\n\n\n\n\n  \n  \n \n\n\n\n\n\n\n\n  \n \n\n\n\n\n\n\n\n  \n  \n  \nLue lisää puiston verkkosivuilta.
URL:https://www.hellokuopio.fi/tapahtuma/sparkle-ilta/2026-05-22/
LOCATION:SuperPark Tahko\, Keitaankatu 1\, Tahkovuori\, 73310
CATEGORIES:Lasten tapahtumat
ATTACH;FMTTYPE=image/jpeg:https://www.hellokuopio.fi/app/uploads/2026/04/sparkle-ilta-image_1.jpg
GEO:63.2909907;28.0420862
X-APPLE-STRUCTURED-LOCATION;VALUE=URI;X-ADDRESS=SuperPark Tahko Keitaankatu 1 Tahkovuori 73310;X-APPLE-RADIUS=500;X-TITLE=Keitaankatu 1:geo:28.0420862,63.2909907
END:VEVENT
BEGIN:VEVENT
DTSTART;TZID=Europe/Helsinki:20260529T170000
DTEND;TZID=Europe/Helsinki:20260529T190000
DTSTAMP:20260421T115317
CREATED:20260413T093020Z
LAST-MODIFIED:20260420T054527Z
UID:10026463-1780074000-1780081200@www.hellokuopio.fi
SUMMARY:Sparkle-ilta
DESCRIPTION:Sparkle-ilta – Lasten ja nuorten omat iltabileet! \nSuperPark Tahkossa järjestettävät Sparkle -illat ovat täynnä värivaloja\, kimalletta\, pomppimista\, pelejä sekä musiikkia. Illan aikana tehdään kasvomaalauksia\, pompitaan valotrampoilla\, opetellaan temppuja benjitrampalla\, järjestetään leikkimielisiä kisailuja ja hypitään köysiradalta ja trapetsilta foam-altaaseen. \n \n\n \n\n \n\n \n\n \n\n \n\n \n\n \nPääsylippu pelkkään Sparkle-iltaan on koulujen loma-aikaan 17€ ja muina aikoina 15€\n\n\n\n\n\n\n\n  \n \n\n\n\n\n\n\n\n  \n  \n \n\n\n\n\n\n\n\n  \n \n\n\n\n\n\n\n\n  \n  \n  \n \n\n \n\n \n\n \n\n \n\n \n\n \n\n \nSuperPark Tahkon päivä- tai osapäivälipun hankkineille sekä SuperParkin kausikortti superiin sisäänpääsy kuuluu hankitun lipun hintaan. Kausikortti liten käyttäjä pääsee sisään loma-aikoina 5 € lisämaksulla.\n\n\n\n\n\n\n\n  \n \n\n\n\n\n\n\n\n  \n  \n \n\n\n\n\n\n\n\n  \n \n\n\n\n\n\n\n\n  \n  \n  \nLue lisää puiston verkkosivuilta.
URL:https://www.hellokuopio.fi/tapahtuma/sparkle-ilta/2026-05-29/
LOCATION:SuperPark Tahko\, Keitaankatu 1\, Tahkovuori\, 73310
CATEGORIES:Lasten tapahtumat
ATTACH;FMTTYPE=image/jpeg:https://www.hellokuopio.fi/app/uploads/2026/04/sparkle-ilta-image_1.jpg
GEO:63.2909907;28.0420862
X-APPLE-STRUCTURED-LOCATION;VALUE=URI;X-ADDRESS=SuperPark Tahko Keitaankatu 1 Tahkovuori 73310;X-APPLE-RADIUS=500;X-TITLE=Keitaankatu 1:geo:28.0420862,63.2909907
END:VEVENT
BEGIN:VEVENT
DTSTART;TZID=Europe/Helsinki:20260605T170000
DTEND;TZID=Europe/Helsinki:20260605T190000
DTSTAMP:20260421T115317
CREATED:20260413T093020Z
LAST-MODIFIED:20260420T054527Z
UID:10026464-1780678800-1780686000@www.hellokuopio.fi
SUMMARY:Sparkle-ilta
DESCRIPTION:Sparkle-ilta – Lasten ja nuorten omat iltabileet! \nSuperPark Tahkossa järjestettävät Sparkle -illat ovat täynnä värivaloja\, kimalletta\, pomppimista\, pelejä sekä musiikkia. Illan aikana tehdään kasvomaalauksia\, pompitaan valotrampoilla\, opetellaan temppuja benjitrampalla\, järjestetään leikkimielisiä kisailuja ja hypitään köysiradalta ja trapetsilta foam-altaaseen. \n \n\n \n\n \n\n \n\n \n\n \n\n \n\n \nPääsylippu pelkkään Sparkle-iltaan on koulujen loma-aikaan 17€ ja muina aikoina 15€\n\n\n\n\n\n\n\n  \n \n\n\n\n\n\n\n\n  \n  \n \n\n\n\n\n\n\n\n  \n \n\n\n\n\n\n\n\n  \n  \n  \n \n\n \n\n \n\n \n\n \n\n \n\n \n\n \nSuperPark Tahkon päivä- tai osapäivälipun hankkineille sekä SuperParkin kausikortti superiin sisäänpääsy kuuluu hankitun lipun hintaan. Kausikortti liten käyttäjä pääsee sisään loma-aikoina 5 € lisämaksulla.\n\n\n\n\n\n\n\n  \n \n\n\n\n\n\n\n\n  \n  \n \n\n\n\n\n\n\n\n  \n \n\n\n\n\n\n\n\n  \n  \n  \nLue lisää puiston verkkosivuilta.
URL:https://www.hellokuopio.fi/tapahtuma/sparkle-ilta/2026-06-05/
LOCATION:SuperPark Tahko\, Keitaankatu 1\, Tahkovuori\, 73310
CATEGORIES:Lasten tapahtumat
ATTACH;FMTTYPE=image/jpeg:https://www.hellokuopio.fi/app/uploads/2026/04/sparkle-ilta-image_1.jpg
GEO:63.2909907;28.0420862
X-APPLE-STRUCTURED-LOCATION;VALUE=URI;X-ADDRESS=SuperPark Tahko Keitaankatu 1 Tahkovuori 73310;X-APPLE-RADIUS=500;X-TITLE=Keitaankatu 1:geo:28.0420862,63.2909907
END:VEVENT
BEGIN:VEVENT
DTSTART;TZID=Europe/Helsinki:20260612T170000
DTEND;TZID=Europe/Helsinki:20260612T190000
DTSTAMP:20260421T115317
CREATED:20260413T093020Z
LAST-MODIFIED:20260420T054527Z
UID:10026465-1781283600-1781290800@www.hellokuopio.fi
SUMMARY:Sparkle-ilta
DESCRIPTION:Sparkle-ilta – Lasten ja nuorten omat iltabileet! \nSuperPark Tahkossa järjestettävät Sparkle -illat ovat täynnä värivaloja\, kimalletta\, pomppimista\, pelejä sekä musiikkia. Illan aikana tehdään kasvomaalauksia\, pompitaan valotrampoilla\, opetellaan temppuja benjitrampalla\, järjestetään leikkimielisiä kisailuja ja hypitään köysiradalta ja trapetsilta foam-altaaseen. \n \n\n \n\n \n\n \n\n \n\n \n\n \n\n \nPääsylippu pelkkään Sparkle-iltaan on koulujen loma-aikaan 17€ ja muina aikoina 15€\n\n\n\n\n\n\n\n  \n \n\n\n\n\n\n\n\n  \n  \n \n\n\n\n\n\n\n\n  \n \n\n\n\n\n\n\n\n  \n  \n  \n \n\n \n\n \n\n \n\n \n\n \n\n \n\n \nSuperPark Tahkon päivä- tai osapäivälipun hankkineille sekä SuperParkin kausikortti superiin sisäänpääsy kuuluu hankitun lipun hintaan. Kausikortti liten käyttäjä pääsee sisään loma-aikoina 5 € lisämaksulla.\n\n\n\n\n\n\n\n  \n \n\n\n\n\n\n\n\n  \n  \n \n\n\n\n\n\n\n\n  \n \n\n\n\n\n\n\n\n  \n  \n  \nLue lisää puiston verkkosivuilta.
URL:https://www.hellokuopio.fi/tapahtuma/sparkle-ilta/2026-06-12/
LOCATION:SuperPark Tahko\, Keitaankatu 1\, Tahkovuori\, 73310
CATEGORIES:Lasten tapahtumat
ATTACH;FMTTYPE=image/jpeg:https://www.hellokuopio.fi/app/uploads/2026/04/sparkle-ilta-image_1.jpg
GEO:63.2909907;28.0420862
X-APPLE-STRUCTURED-LOCATION;VALUE=URI;X-ADDRESS=SuperPark Tahko Keitaankatu 1 Tahkovuori 73310;X-APPLE-RADIUS=500;X-TITLE=Keitaankatu 1:geo:28.0420862,63.2909907
END:VEVENT
BEGIN:VEVENT
DTSTART;TZID=Europe/Helsinki:20260626T170000
DTEND;TZID=Europe/Helsinki:20260626T190000
DTSTAMP:20260421T115317
CREATED:20260413T093020Z
LAST-MODIFIED:20260420T054527Z
UID:10026466-1782493200-1782500400@www.hellokuopio.fi
SUMMARY:Sparkle-ilta
DESCRIPTION:Sparkle-ilta – Lasten ja nuorten omat iltabileet! \nSuperPark Tahkossa järjestettävät Sparkle -illat ovat täynnä värivaloja\, kimalletta\, pomppimista\, pelejä sekä musiikkia. Illan aikana tehdään kasvomaalauksia\, pompitaan valotrampoilla\, opetellaan temppuja benjitrampalla\, järjestetään leikkimielisiä kisailuja ja hypitään köysiradalta ja trapetsilta foam-altaaseen. \n \n\n \n\n \n\n \n\n \n\n \n\n \n\n \nPääsylippu pelkkään Sparkle-iltaan on koulujen loma-aikaan 17€ ja muina aikoina 15€\n\n\n\n\n\n\n\n  \n \n\n\n\n\n\n\n\n  \n  \n \n\n\n\n\n\n\n\n  \n \n\n\n\n\n\n\n\n  \n  \n  \n \n\n \n\n \n\n \n\n \n\n \n\n \n\n \nSuperPark Tahkon päivä- tai osapäivälipun hankkineille sekä SuperParkin kausikortti superiin sisäänpääsy kuuluu hankitun lipun hintaan. Kausikortti liten käyttäjä pääsee sisään loma-aikoina 5 € lisämaksulla.\n\n\n\n\n\n\n\n  \n \n\n\n\n\n\n\n\n  \n  \n \n\n\n\n\n\n\n\n  \n \n\n\n\n\n\n\n\n  \n  \n  \nLue lisää puiston verkkosivuilta.
URL:https://www.hellokuopio.fi/tapahtuma/sparkle-ilta/2026-06-26/
LOCATION:SuperPark Tahko\, Keitaankatu 1\, Tahkovuori\, 73310
CATEGORIES:Lasten tapahtumat
ATTACH;FMTTYPE=image/jpeg:https://www.hellokuopio.fi/app/uploads/2026/04/sparkle-ilta-image_1.jpg
GEO:63.2909907;28.0420862
X-APPLE-STRUCTURED-LOCATION;VALUE=URI;X-ADDRESS=SuperPark Tahko Keitaankatu 1 Tahkovuori 73310;X-APPLE-RADIUS=500;X-TITLE=Keitaankatu 1:geo:28.0420862,63.2909907
END:VEVENT
BEGIN:VEVENT
DTSTART;TZID=Europe/Helsinki:20260703T170000
DTEND;TZID=Europe/Helsinki:20260703T190000
DTSTAMP:20260421T115317
CREATED:20260413T093020Z
LAST-MODIFIED:20260420T054527Z
UID:10026487-1783098000-1783105200@www.hellokuopio.fi
SUMMARY:Sparkle-ilta
DESCRIPTION:Sparkle-ilta – Lasten ja nuorten omat iltabileet! \nSuperPark Tahkossa järjestettävät Sparkle -illat ovat täynnä värivaloja\, kimalletta\, pomppimista\, pelejä sekä musiikkia. Illan aikana tehdään kasvomaalauksia\, pompitaan valotrampoilla\, opetellaan temppuja benjitrampalla\, järjestetään leikkimielisiä kisailuja ja hypitään köysiradalta ja trapetsilta foam-altaaseen. \n \n\n \n\n \n\n \n\n \n\n \n\n \n\n \nPääsylippu pelkkään Sparkle-iltaan on koulujen loma-aikaan 17€ ja muina aikoina 15€\n\n\n\n\n\n\n\n  \n \n\n\n\n\n\n\n\n  \n  \n \n\n\n\n\n\n\n\n  \n \n\n\n\n\n\n\n\n  \n  \n  \n \n\n \n\n \n\n \n\n \n\n \n\n \n\n \nSuperPark Tahkon päivä- tai osapäivälipun hankkineille sekä SuperParkin kausikortti superiin sisäänpääsy kuuluu hankitun lipun hintaan. Kausikortti liten käyttäjä pääsee sisään loma-aikoina 5 € lisämaksulla.\n\n\n\n\n\n\n\n  \n \n\n\n\n\n\n\n\n  \n  \n \n\n\n\n\n\n\n\n  \n \n\n\n\n\n\n\n\n  \n  \n  \nLue lisää puiston verkkosivuilta.
URL:https://www.hellokuopio.fi/tapahtuma/sparkle-ilta/2026-07-03/
LOCATION:SuperPark Tahko\, Keitaankatu 1\, Tahkovuori\, 73310
CATEGORIES:Lasten tapahtumat
ATTACH;FMTTYPE=image/jpeg:https://www.hellokuopio.fi/app/uploads/2026/04/sparkle-ilta-image_1.jpg
GEO:63.2909907;28.0420862
X-APPLE-STRUCTURED-LOCATION;VALUE=URI;X-ADDRESS=SuperPark Tahko Keitaankatu 1 Tahkovuori 73310;X-APPLE-RADIUS=500;X-TITLE=Keitaankatu 1:geo:28.0420862,63.2909907
END:VEVENT
BEGIN:VEVENT
DTSTART;TZID=Europe/Helsinki:20260710T170000
DTEND;TZID=Europe/Helsinki:20260710T190000
DTSTAMP:20260421T115317
CREATED:20260413T093020Z
LAST-MODIFIED:20260420T054527Z
UID:10026488-1783702800-1783710000@www.hellokuopio.fi
SUMMARY:Sparkle-ilta
DESCRIPTION:Sparkle-ilta – Lasten ja nuorten omat iltabileet! \nSuperPark Tahkossa järjestettävät Sparkle -illat ovat täynnä värivaloja\, kimalletta\, pomppimista\, pelejä sekä musiikkia. Illan aikana tehdään kasvomaalauksia\, pompitaan valotrampoilla\, opetellaan temppuja benjitrampalla\, järjestetään leikkimielisiä kisailuja ja hypitään köysiradalta ja trapetsilta foam-altaaseen. \n \n\n \n\n \n\n \n\n \n\n \n\n \n\n \nPääsylippu pelkkään Sparkle-iltaan on koulujen loma-aikaan 17€ ja muina aikoina 15€\n\n\n\n\n\n\n\n  \n \n\n\n\n\n\n\n\n  \n  \n \n\n\n\n\n\n\n\n  \n \n\n\n\n\n\n\n\n  \n  \n  \n \n\n \n\n \n\n \n\n \n\n \n\n \n\n \nSuperPark Tahkon päivä- tai osapäivälipun hankkineille sekä SuperParkin kausikortti superiin sisäänpääsy kuuluu hankitun lipun hintaan. Kausikortti liten käyttäjä pääsee sisään loma-aikoina 5 € lisämaksulla.\n\n\n\n\n\n\n\n  \n \n\n\n\n\n\n\n\n  \n  \n \n\n\n\n\n\n\n\n  \n \n\n\n\n\n\n\n\n  \n  \n  \nLue lisää puiston verkkosivuilta.
URL:https://www.hellokuopio.fi/tapahtuma/sparkle-ilta/2026-07-10/
LOCATION:SuperPark Tahko\, Keitaankatu 1\, Tahkovuori\, 73310
CATEGORIES:Lasten tapahtumat
ATTACH;FMTTYPE=image/jpeg:https://www.hellokuopio.fi/app/uploads/2026/04/sparkle-ilta-image_1.jpg
GEO:63.2909907;28.0420862
X-APPLE-STRUCTURED-LOCATION;VALUE=URI;X-ADDRESS=SuperPark Tahko Keitaankatu 1 Tahkovuori 73310;X-APPLE-RADIUS=500;X-TITLE=Keitaankatu 1:geo:28.0420862,63.2909907
END:VEVENT
BEGIN:VEVENT
DTSTART;TZID=Europe/Helsinki:20260717T170000
DTEND;TZID=Europe/Helsinki:20260717T190000
DTSTAMP:20260421T115317
CREATED:20260413T093020Z
LAST-MODIFIED:20260420T054527Z
UID:10026489-1784307600-1784314800@www.hellokuopio.fi
SUMMARY:Sparkle-ilta
DESCRIPTION:Sparkle-ilta – Lasten ja nuorten omat iltabileet! \nSuperPark Tahkossa järjestettävät Sparkle -illat ovat täynnä värivaloja\, kimalletta\, pomppimista\, pelejä sekä musiikkia. Illan aikana tehdään kasvomaalauksia\, pompitaan valotrampoilla\, opetellaan temppuja benjitrampalla\, järjestetään leikkimielisiä kisailuja ja hypitään köysiradalta ja trapetsilta foam-altaaseen. \n \n\n \n\n \n\n \n\n \n\n \n\n \n\n \nPääsylippu pelkkään Sparkle-iltaan on koulujen loma-aikaan 17€ ja muina aikoina 15€\n\n\n\n\n\n\n\n  \n \n\n\n\n\n\n\n\n  \n  \n \n\n\n\n\n\n\n\n  \n \n\n\n\n\n\n\n\n  \n  \n  \n \n\n \n\n \n\n \n\n \n\n \n\n \n\n \nSuperPark Tahkon päivä- tai osapäivälipun hankkineille sekä SuperParkin kausikortti superiin sisäänpääsy kuuluu hankitun lipun hintaan. Kausikortti liten käyttäjä pääsee sisään loma-aikoina 5 € lisämaksulla.\n\n\n\n\n\n\n\n  \n \n\n\n\n\n\n\n\n  \n  \n \n\n\n\n\n\n\n\n  \n \n\n\n\n\n\n\n\n  \n  \n  \nLue lisää puiston verkkosivuilta.
URL:https://www.hellokuopio.fi/tapahtuma/sparkle-ilta/2026-07-17/
LOCATION:SuperPark Tahko\, Keitaankatu 1\, Tahkovuori\, 73310
CATEGORIES:Lasten tapahtumat
ATTACH;FMTTYPE=image/jpeg:https://www.hellokuopio.fi/app/uploads/2026/04/sparkle-ilta-image_1.jpg
GEO:63.2909907;28.0420862
X-APPLE-STRUCTURED-LOCATION;VALUE=URI;X-ADDRESS=SuperPark Tahko Keitaankatu 1 Tahkovuori 73310;X-APPLE-RADIUS=500;X-TITLE=Keitaankatu 1:geo:28.0420862,63.2909907
END:VEVENT
BEGIN:VEVENT
DTSTART;TZID=Europe/Helsinki:20260724T170000
DTEND;TZID=Europe/Helsinki:20260724T190000
DTSTAMP:20260421T115317
CREATED:20260413T093020Z
LAST-MODIFIED:20260420T054527Z
UID:10026490-1784912400-1784919600@www.hellokuopio.fi
SUMMARY:Sparkle-ilta
DESCRIPTION:Sparkle-ilta – Lasten ja nuorten omat iltabileet! \nSuperPark Tahkossa järjestettävät Sparkle -illat ovat täynnä värivaloja\, kimalletta\, pomppimista\, pelejä sekä musiikkia. Illan aikana tehdään kasvomaalauksia\, pompitaan valotrampoilla\, opetellaan temppuja benjitrampalla\, järjestetään leikkimielisiä kisailuja ja hypitään köysiradalta ja trapetsilta foam-altaaseen. \n \n\n \n\n \n\n \n\n \n\n \n\n \n\n \nPääsylippu pelkkään Sparkle-iltaan on koulujen loma-aikaan 17€ ja muina aikoina 15€\n\n\n\n\n\n\n\n  \n \n\n\n\n\n\n\n\n  \n  \n \n\n\n\n\n\n\n\n  \n \n\n\n\n\n\n\n\n  \n  \n  \n \n\n \n\n \n\n \n\n \n\n \n\n \n\n \nSuperPark Tahkon päivä- tai osapäivälipun hankkineille sekä SuperParkin kausikortti superiin sisäänpääsy kuuluu hankitun lipun hintaan. Kausikortti liten käyttäjä pääsee sisään loma-aikoina 5 € lisämaksulla.\n\n\n\n\n\n\n\n  \n \n\n\n\n\n\n\n\n  \n  \n \n\n\n\n\n\n\n\n  \n \n\n\n\n\n\n\n\n  \n  \n  \nLue lisää puiston verkkosivuilta.
URL:https://www.hellokuopio.fi/tapahtuma/sparkle-ilta/2026-07-24/
LOCATION:SuperPark Tahko\, Keitaankatu 1\, Tahkovuori\, 73310
CATEGORIES:Lasten tapahtumat
ATTACH;FMTTYPE=image/jpeg:https://www.hellokuopio.fi/app/uploads/2026/04/sparkle-ilta-image_1.jpg
GEO:63.2909907;28.0420862
X-APPLE-STRUCTURED-LOCATION;VALUE=URI;X-ADDRESS=SuperPark Tahko Keitaankatu 1 Tahkovuori 73310;X-APPLE-RADIUS=500;X-TITLE=Keitaankatu 1:geo:28.0420862,63.2909907
END:VEVENT
BEGIN:VEVENT
DTSTART;TZID=Europe/Helsinki:20260731T170000
DTEND;TZID=Europe/Helsinki:20260731T190000
DTSTAMP:20260421T115317
CREATED:20260413T093020Z
LAST-MODIFIED:20260420T054527Z
UID:10026491-1785517200-1785524400@www.hellokuopio.fi
SUMMARY:Sparkle-ilta
DESCRIPTION:Sparkle-ilta – Lasten ja nuorten omat iltabileet! \nSuperPark Tahkossa järjestettävät Sparkle -illat ovat täynnä värivaloja\, kimalletta\, pomppimista\, pelejä sekä musiikkia. Illan aikana tehdään kasvomaalauksia\, pompitaan valotrampoilla\, opetellaan temppuja benjitrampalla\, järjestetään leikkimielisiä kisailuja ja hypitään köysiradalta ja trapetsilta foam-altaaseen. \n \n\n \n\n \n\n \n\n \n\n \n\n \n\n \nPääsylippu pelkkään Sparkle-iltaan on koulujen loma-aikaan 17€ ja muina aikoina 15€\n\n\n\n\n\n\n\n  \n \n\n\n\n\n\n\n\n  \n  \n \n\n\n\n\n\n\n\n  \n \n\n\n\n\n\n\n\n  \n  \n  \n \n\n \n\n \n\n \n\n \n\n \n\n \n\n \nSuperPark Tahkon päivä- tai osapäivälipun hankkineille sekä SuperParkin kausikortti superiin sisäänpääsy kuuluu hankitun lipun hintaan. Kausikortti liten käyttäjä pääsee sisään loma-aikoina 5 € lisämaksulla.\n\n\n\n\n\n\n\n  \n \n\n\n\n\n\n\n\n  \n  \n \n\n\n\n\n\n\n\n  \n \n\n\n\n\n\n\n\n  \n  \n  \nLue lisää puiston verkkosivuilta.
URL:https://www.hellokuopio.fi/tapahtuma/sparkle-ilta/2026-07-31/
LOCATION:SuperPark Tahko\, Keitaankatu 1\, Tahkovuori\, 73310
CATEGORIES:Lasten tapahtumat
ATTACH;FMTTYPE=image/jpeg:https://www.hellokuopio.fi/app/uploads/2026/04/sparkle-ilta-image_1.jpg
GEO:63.2909907;28.0420862
X-APPLE-STRUCTURED-LOCATION;VALUE=URI;X-ADDRESS=SuperPark Tahko Keitaankatu 1 Tahkovuori 73310;X-APPLE-RADIUS=500;X-TITLE=Keitaankatu 1:geo:28.0420862,63.2909907
END:VEVENT
BEGIN:VEVENT
DTSTART;TZID=Europe/Helsinki:20260807T170000
DTEND;TZID=Europe/Helsinki:20260807T190000
DTSTAMP:20260421T115317
CREATED:20260413T093020Z
LAST-MODIFIED:20260420T054527Z
UID:10026492-1786122000-1786129200@www.hellokuopio.fi
SUMMARY:Sparkle-ilta
DESCRIPTION:Sparkle-ilta – Lasten ja nuorten omat iltabileet! \nSuperPark Tahkossa järjestettävät Sparkle -illat ovat täynnä värivaloja\, kimalletta\, pomppimista\, pelejä sekä musiikkia. Illan aikana tehdään kasvomaalauksia\, pompitaan valotrampoilla\, opetellaan temppuja benjitrampalla\, järjestetään leikkimielisiä kisailuja ja hypitään köysiradalta ja trapetsilta foam-altaaseen. \n \n\n \n\n \n\n \n\n \n\n \n\n \n\n \nPääsylippu pelkkään Sparkle-iltaan on koulujen loma-aikaan 17€ ja muina aikoina 15€\n\n\n\n\n\n\n\n  \n \n\n\n\n\n\n\n\n  \n  \n \n\n\n\n\n\n\n\n  \n \n\n\n\n\n\n\n\n  \n  \n  \n \n\n \n\n \n\n \n\n \n\n \n\n \n\n \nSuperPark Tahkon päivä- tai osapäivälipun hankkineille sekä SuperParkin kausikortti superiin sisäänpääsy kuuluu hankitun lipun hintaan. Kausikortti liten käyttäjä pääsee sisään loma-aikoina 5 € lisämaksulla.\n\n\n\n\n\n\n\n  \n \n\n\n\n\n\n\n\n  \n  \n \n\n\n\n\n\n\n\n  \n \n\n\n\n\n\n\n\n  \n  \n  \nLue lisää puiston verkkosivuilta.
URL:https://www.hellokuopio.fi/tapahtuma/sparkle-ilta/2026-08-07/
LOCATION:SuperPark Tahko\, Keitaankatu 1\, Tahkovuori\, 73310
CATEGORIES:Lasten tapahtumat
ATTACH;FMTTYPE=image/jpeg:https://www.hellokuopio.fi/app/uploads/2026/04/sparkle-ilta-image_1.jpg
GEO:63.2909907;28.0420862
X-APPLE-STRUCTURED-LOCATION;VALUE=URI;X-ADDRESS=SuperPark Tahko Keitaankatu 1 Tahkovuori 73310;X-APPLE-RADIUS=500;X-TITLE=Keitaankatu 1:geo:28.0420862,63.2909907
END:VEVENT
BEGIN:VEVENT
DTSTART;TZID=Europe/Helsinki:20260814T170000
DTEND;TZID=Europe/Helsinki:20260814T190000
DTSTAMP:20260421T115317
CREATED:20260413T093020Z
LAST-MODIFIED:20260420T054527Z
UID:10026493-1786726800-1786734000@www.hellokuopio.fi
SUMMARY:Sparkle-ilta
DESCRIPTION:Sparkle-ilta – Lasten ja nuorten omat iltabileet! \nSuperPark Tahkossa järjestettävät Sparkle -illat ovat täynnä värivaloja\, kimalletta\, pomppimista\, pelejä sekä musiikkia. Illan aikana tehdään kasvomaalauksia\, pompitaan valotrampoilla\, opetellaan temppuja benjitrampalla\, järjestetään leikkimielisiä kisailuja ja hypitään köysiradalta ja trapetsilta foam-altaaseen. \n \n\n \n\n \n\n \n\n \n\n \n\n \n\n \nPääsylippu pelkkään Sparkle-iltaan on koulujen loma-aikaan 17€ ja muina aikoina 15€\n\n\n\n\n\n\n\n  \n \n\n\n\n\n\n\n\n  \n  \n \n\n\n\n\n\n\n\n  \n \n\n\n\n\n\n\n\n  \n  \n  \n \n\n \n\n \n\n \n\n \n\n \n\n \n\n \nSuperPark Tahkon päivä- tai osapäivälipun hankkineille sekä SuperParkin kausikortti superiin sisäänpääsy kuuluu hankitun lipun hintaan. Kausikortti liten käyttäjä pääsee sisään loma-aikoina 5 € lisämaksulla.\n\n\n\n\n\n\n\n  \n \n\n\n\n\n\n\n\n  \n  \n \n\n\n\n\n\n\n\n  \n \n\n\n\n\n\n\n\n  \n  \n  \nLue lisää puiston verkkosivuilta.
URL:https://www.hellokuopio.fi/tapahtuma/sparkle-ilta/2026-08-14/
LOCATION:SuperPark Tahko\, Keitaankatu 1\, Tahkovuori\, 73310
CATEGORIES:Lasten tapahtumat
ATTACH;FMTTYPE=image/jpeg:https://www.hellokuopio.fi/app/uploads/2026/04/sparkle-ilta-image_1.jpg
GEO:63.2909907;28.0420862
X-APPLE-STRUCTURED-LOCATION;VALUE=URI;X-ADDRESS=SuperPark Tahko Keitaankatu 1 Tahkovuori 73310;X-APPLE-RADIUS=500;X-TITLE=Keitaankatu 1:geo:28.0420862,63.2909907
END:VEVENT
BEGIN:VEVENT
DTSTART;TZID=Europe/Helsinki:20260821T170000
DTEND;TZID=Europe/Helsinki:20260821T190000
DTSTAMP:20260421T115317
CREATED:20260413T093020Z
LAST-MODIFIED:20260420T054527Z
UID:10026494-1787331600-1787338800@www.hellokuopio.fi
SUMMARY:Sparkle-ilta
DESCRIPTION:Sparkle-ilta – Lasten ja nuorten omat iltabileet! \nSuperPark Tahkossa järjestettävät Sparkle -illat ovat täynnä värivaloja\, kimalletta\, pomppimista\, pelejä sekä musiikkia. Illan aikana tehdään kasvomaalauksia\, pompitaan valotrampoilla\, opetellaan temppuja benjitrampalla\, järjestetään leikkimielisiä kisailuja ja hypitään köysiradalta ja trapetsilta foam-altaaseen. \n \n\n \n\n \n\n \n\n \n\n \n\n \n\n \nPääsylippu pelkkään Sparkle-iltaan on koulujen loma-aikaan 17€ ja muina aikoina 15€\n\n\n\n\n\n\n\n  \n \n\n\n\n\n\n\n\n  \n  \n \n\n\n\n\n\n\n\n  \n \n\n\n\n\n\n\n\n  \n  \n  \n \n\n \n\n \n\n \n\n \n\n \n\n \n\n \nSuperPark Tahkon päivä- tai osapäivälipun hankkineille sekä SuperParkin kausikortti superiin sisäänpääsy kuuluu hankitun lipun hintaan. Kausikortti liten käyttäjä pääsee sisään loma-aikoina 5 € lisämaksulla.\n\n\n\n\n\n\n\n  \n \n\n\n\n\n\n\n\n  \n  \n \n\n\n\n\n\n\n\n  \n \n\n\n\n\n\n\n\n  \n  \n  \nLue lisää puiston verkkosivuilta.
URL:https://www.hellokuopio.fi/tapahtuma/sparkle-ilta/2026-08-21/
LOCATION:SuperPark Tahko\, Keitaankatu 1\, Tahkovuori\, 73310
CATEGORIES:Lasten tapahtumat
ATTACH;FMTTYPE=image/jpeg:https://www.hellokuopio.fi/app/uploads/2026/04/sparkle-ilta-image_1.jpg
GEO:63.2909907;28.0420862
X-APPLE-STRUCTURED-LOCATION;VALUE=URI;X-ADDRESS=SuperPark Tahko Keitaankatu 1 Tahkovuori 73310;X-APPLE-RADIUS=500;X-TITLE=Keitaankatu 1:geo:28.0420862,63.2909907
END:VEVENT
BEGIN:VEVENT
DTSTART;TZID=Europe/Helsinki:20260828T170000
DTEND;TZID=Europe/Helsinki:20260828T190000
DTSTAMP:20260421T115317
CREATED:20260413T093020Z
LAST-MODIFIED:20260420T054527Z
UID:10026495-1787936400-1787943600@www.hellokuopio.fi
SUMMARY:Sparkle-ilta
DESCRIPTION:Sparkle-ilta – Lasten ja nuorten omat iltabileet! \nSuperPark Tahkossa järjestettävät Sparkle -illat ovat täynnä värivaloja\, kimalletta\, pomppimista\, pelejä sekä musiikkia. Illan aikana tehdään kasvomaalauksia\, pompitaan valotrampoilla\, opetellaan temppuja benjitrampalla\, järjestetään leikkimielisiä kisailuja ja hypitään köysiradalta ja trapetsilta foam-altaaseen. \n \n\n \n\n \n\n \n\n \n\n \n\n \n\n \nPääsylippu pelkkään Sparkle-iltaan on koulujen loma-aikaan 17€ ja muina aikoina 15€\n\n\n\n\n\n\n\n  \n \n\n\n\n\n\n\n\n  \n  \n \n\n\n\n\n\n\n\n  \n \n\n\n\n\n\n\n\n  \n  \n  \n \n\n \n\n \n\n \n\n \n\n \n\n \n\n \nSuperPark Tahkon päivä- tai osapäivälipun hankkineille sekä SuperParkin kausikortti superiin sisäänpääsy kuuluu hankitun lipun hintaan. Kausikortti liten käyttäjä pääsee sisään loma-aikoina 5 € lisämaksulla.\n\n\n\n\n\n\n\n  \n \n\n\n\n\n\n\n\n  \n  \n \n\n\n\n\n\n\n\n  \n \n\n\n\n\n\n\n\n  \n  \n  \nLue lisää puiston verkkosivuilta.
URL:https://www.hellokuopio.fi/tapahtuma/sparkle-ilta/2026-08-28/
LOCATION:SuperPark Tahko\, Keitaankatu 1\, Tahkovuori\, 73310
CATEGORIES:Lasten tapahtumat
ATTACH;FMTTYPE=image/jpeg:https://www.hellokuopio.fi/app/uploads/2026/04/sparkle-ilta-image_1.jpg
GEO:63.2909907;28.0420862
X-APPLE-STRUCTURED-LOCATION;VALUE=URI;X-ADDRESS=SuperPark Tahko Keitaankatu 1 Tahkovuori 73310;X-APPLE-RADIUS=500;X-TITLE=Keitaankatu 1:geo:28.0420862,63.2909907
END:VEVENT
END:VCALENDAR