BEGIN:VCALENDAR
VERSION:2.0
PRODID:-//Hello Kuopio - ECPv6.15.17.1//NONSGML v1.0//EN
CALSCALE:GREGORIAN
METHOD:PUBLISH
X-WR-CALNAME:Hello Kuopio
X-ORIGINAL-URL:https://www.hellokuopio.fi
X-WR-CALDESC:Tapahtumat Hello Kuopio
REFRESH-INTERVAL;VALUE=DURATION:PT1H
X-Robots-Tag:noindex
X-PUBLISHED-TTL:PT1H
BEGIN:VTIMEZONE
TZID:Europe/Helsinki
BEGIN:DAYLIGHT
TZOFFSETFROM:+0200
TZOFFSETTO:+0300
TZNAME:EEST
DTSTART:20250330T010000
END:DAYLIGHT
BEGIN:STANDARD
TZOFFSETFROM:+0300
TZOFFSETTO:+0200
TZNAME:EET
DTSTART:20251026T010000
END:STANDARD
BEGIN:DAYLIGHT
TZOFFSETFROM:+0200
TZOFFSETTO:+0300
TZNAME:EEST
DTSTART:20260329T010000
END:DAYLIGHT
BEGIN:STANDARD
TZOFFSETFROM:+0300
TZOFFSETTO:+0200
TZNAME:EET
DTSTART:20261025T010000
END:STANDARD
BEGIN:DAYLIGHT
TZOFFSETFROM:+0200
TZOFFSETTO:+0300
TZNAME:EEST
DTSTART:20270328T010000
END:DAYLIGHT
BEGIN:STANDARD
TZOFFSETFROM:+0300
TZOFFSETTO:+0200
TZNAME:EET
DTSTART:20271031T010000
END:STANDARD
END:VTIMEZONE
BEGIN:VEVENT
DTSTART;TZID=Europe/Helsinki:20260423T180000
DTEND;TZID=Europe/Helsinki:20260423T200000
DTSTAMP:20260422T155928
CREATED:20260417T075714Z
LAST-MODIFIED:20260417T080433Z
UID:10026669-1776967200-1776974400@www.hellokuopio.fi
SUMMARY:Jousiammunnan alkeiskurssi
DESCRIPTION:Jousiammunnan alkeiskurssi sisältää kolme kahden tunnin opetuskertaa samalla viikolla. Kurssilla saat hyvät perustiedot jousiammuntaharrastukselle. Kurssi perustuu SJAL:n Ensinuolet-kurssiin. Kurssilla käytetään Puijon Jousen jousia ja nuolia. \nKurssikerrat ovat to 23.4. klo 18-20\, la 25.4. klo 12-14 ja su 26.4. klo 12-14 Jousiammunta sopii kaikille ikään ja sukupuoleen katsomatta. Se on taitolaji\, jossa haasteita riittää monella tasolla. Jousiammunta voi olla koko perheen yhteinen harrastus\, keino irtautua hetkeksi arjen kiireistä\, itsensä kehittämistä omilla ehdoilla tai kilpailua ja kovaa huippu-urheilua. Jousiammunta kehittää harrastajansa keskittymiskykyä ja kehonhallintaa. Harjoituksissa on suljettava muut asiat mielestä. Voimaa jousiammunnassa ei vaadita vaan oikeaa tekniikkaa. \nAlaikäisellä tulee olla ainakin ensimmäisellä kurssikerralla huoltaja mukana. Alaikäraja kurssille on 11 vuotta. Kurssin jälkeen voit halutessasi liittyä Puijon Jousen jäseneksi ja aloittaa harrastuksen seuran välineillä – omaa jousta ei tarvitse vielä hankkia. Suositus on\, että ainakin 2-3 kuukautta harjoitellaan seuran välineillä ennen oman jousen hankintaa.
URL:https://www.hellokuopio.fi/tapahtuma/jousiammunnan-alkeiskurssi/2026-04-23/
LOCATION:kotkankallion väestönsuoja\, Niiralankatu 32\, Kuopio\, 70600\, Finland
CATEGORIES:Kuopio,Urheilutapahtumat
ATTACH;FMTTYPE=image/jpeg:https://www.hellokuopio.fi/app/uploads/2026/04/20250720_122342-e1776412623463.jpg
END:VEVENT
BEGIN:VEVENT
DTSTART;TZID=Europe/Helsinki:20260425T120000
DTEND;TZID=Europe/Helsinki:20260425T140000
DTSTAMP:20260422T155928
CREATED:20260417T075714Z
LAST-MODIFIED:20260417T080433Z
UID:10026670-1777118400-1777125600@www.hellokuopio.fi
SUMMARY:Jousiammunnan alkeiskurssi
DESCRIPTION:Jousiammunnan alkeiskurssi sisältää kolme kahden tunnin opetuskertaa samalla viikolla. Kurssilla saat hyvät perustiedot jousiammuntaharrastukselle. Kurssi perustuu SJAL:n Ensinuolet-kurssiin. Kurssilla käytetään Puijon Jousen jousia ja nuolia. \nKurssikerrat ovat to 23.4. klo 18-20\, la 25.4. klo 12-14 ja su 26.4. klo 12-14 Jousiammunta sopii kaikille ikään ja sukupuoleen katsomatta. Se on taitolaji\, jossa haasteita riittää monella tasolla. Jousiammunta voi olla koko perheen yhteinen harrastus\, keino irtautua hetkeksi arjen kiireistä\, itsensä kehittämistä omilla ehdoilla tai kilpailua ja kovaa huippu-urheilua. Jousiammunta kehittää harrastajansa keskittymiskykyä ja kehonhallintaa. Harjoituksissa on suljettava muut asiat mielestä. Voimaa jousiammunnassa ei vaadita vaan oikeaa tekniikkaa. \nAlaikäisellä tulee olla ainakin ensimmäisellä kurssikerralla huoltaja mukana. Alaikäraja kurssille on 11 vuotta. Kurssin jälkeen voit halutessasi liittyä Puijon Jousen jäseneksi ja aloittaa harrastuksen seuran välineillä – omaa jousta ei tarvitse vielä hankkia. Suositus on\, että ainakin 2-3 kuukautta harjoitellaan seuran välineillä ennen oman jousen hankintaa.
URL:https://www.hellokuopio.fi/tapahtuma/jousiammunnan-alkeiskurssi/2026-04-25/
LOCATION:kotkankallion väestönsuoja\, Niiralankatu 32\, Kuopio\, 70600\, Finland
CATEGORIES:Kuopio,Urheilutapahtumat
ATTACH;FMTTYPE=image/jpeg:https://www.hellokuopio.fi/app/uploads/2026/04/20250720_122342-e1776412623463.jpg
END:VEVENT
BEGIN:VEVENT
DTSTART;TZID=Europe/Helsinki:20260426T120000
DTEND;TZID=Europe/Helsinki:20260426T140000
DTSTAMP:20260422T155928
CREATED:20260417T075714Z
LAST-MODIFIED:20260417T080433Z
UID:10026671-1777204800-1777212000@www.hellokuopio.fi
SUMMARY:Jousiammunnan alkeiskurssi
DESCRIPTION:Jousiammunnan alkeiskurssi sisältää kolme kahden tunnin opetuskertaa samalla viikolla. Kurssilla saat hyvät perustiedot jousiammuntaharrastukselle. Kurssi perustuu SJAL:n Ensinuolet-kurssiin. Kurssilla käytetään Puijon Jousen jousia ja nuolia. \nKurssikerrat ovat to 23.4. klo 18-20\, la 25.4. klo 12-14 ja su 26.4. klo 12-14 Jousiammunta sopii kaikille ikään ja sukupuoleen katsomatta. Se on taitolaji\, jossa haasteita riittää monella tasolla. Jousiammunta voi olla koko perheen yhteinen harrastus\, keino irtautua hetkeksi arjen kiireistä\, itsensä kehittämistä omilla ehdoilla tai kilpailua ja kovaa huippu-urheilua. Jousiammunta kehittää harrastajansa keskittymiskykyä ja kehonhallintaa. Harjoituksissa on suljettava muut asiat mielestä. Voimaa jousiammunnassa ei vaadita vaan oikeaa tekniikkaa. \nAlaikäisellä tulee olla ainakin ensimmäisellä kurssikerralla huoltaja mukana. Alaikäraja kurssille on 11 vuotta. Kurssin jälkeen voit halutessasi liittyä Puijon Jousen jäseneksi ja aloittaa harrastuksen seuran välineillä – omaa jousta ei tarvitse vielä hankkia. Suositus on\, että ainakin 2-3 kuukautta harjoitellaan seuran välineillä ennen oman jousen hankintaa.
URL:https://www.hellokuopio.fi/tapahtuma/jousiammunnan-alkeiskurssi/2026-04-26/
LOCATION:kotkankallion väestönsuoja\, Niiralankatu 32\, Kuopio\, 70600\, Finland
CATEGORIES:Kuopio,Urheilutapahtumat
ATTACH;FMTTYPE=image/jpeg:https://www.hellokuopio.fi/app/uploads/2026/04/20250720_122342-e1776412623463.jpg
END:VEVENT
END:VCALENDAR